{
 "currentVersion": 10.81,
 "serviceDescription": "Orthos/1952Orthos",
 "name": "Orthos/1952Orthos",
 "description": "",
 "extent": {
  "xmin": 5914289.934000282,
  "ymin": 2156513.053979901,
  "xmax": 5997220.734013153,
  "ymax": 2283893.053999673,
  "spatialReference": {
   "wkid": 2872,
   "latestWkid": 2872
  }
 },
 "initialExtent": {
  "xmin": 5914289.934000282,
  "ymin": 2156513.053979901,
  "xmax": 5997220.734013153,
  "ymax": 2283893.053999673,
  "spatialReference": {
   "wkid": 2872,
   "latestWkid": 2872
  }
 },
 "fullExtent": {
  "xmin": 5914289.934000282,
  "ymin": 2156513.053979901,
  "xmax": 5997220.734013153,
  "ymax": 2283893.053999673,
  "spatialReference": {
   "wkid": 2872,
   "latestWkid": 2872
  }
 },
 "pixelSizeX": 1.200000000186251,
 "pixelSizeY": 1.2000000001862645,
 "bandCount": 3,
 "pixelType": "U8",
 "minPixelSize": 0.6249999999999999,
 "maxPixelSize": 260.41666666666663,
 "copyrightText": "",
 "serviceDataType": "esriImageServiceDataTypeRGB",
 "minValues": [
  0,
  0,
  0
 ],
 "maxValues": [
  255,
  255,
  255
 ],
 "meanValues": [
  140.12532629824798,
  142.82963705281222,
  136.04169511655178
 ],
 "stdvValues": [
  61.41676600240871,
  60.09761902295673,
  62.57720667542933
 ],
 "objectIdField": "",
 "fields": [],
 "capabilities": "Mensuration,Image,Metadata",
 "defaultMosaicMethod": "Center",
 "allowedMosaicMethods": "",
 "sortField": "",
 "sortValue": null,
 "sortAscending": true,
 "mosaicOperator": "First",
 "defaultCompressionQuality": 75,
 "defaultResamplingMethod": "Bicubic",
 "maxImageHeight": 4100,
 "maxImageWidth": 15000,
 "singleFusedMapCache": true,
 "tileInfo": {
  "rows": 256,
  "cols": 256,
  "dpi": 96,
  "format": "MIXED",
  "compressionQuality": 75,
  "origin": {
   "x": -115860600,
   "y": 151575000
  },
  "spatialReference": {
   "wkid": 2872,
   "latestWkid": 2872
  },
  "lods": [
   {
    "level": 0,
    "resolution": 260.41666666666663,
    "scale": 300000
   },
   {
    "level": 1,
    "resolution": 173.61111111111111,
    "scale": 200000
   },
   {
    "level": 2,
    "resolution": 86.80555555555556,
    "scale": 100000
   },
   {
    "level": 3,
    "resolution": 65.10416666666666,
    "scale": 75000
   },
   {
    "level": 4,
    "resolution": 27.777777777777775,
    "scale": 32000
   },
   {
    "level": 5,
    "resolution": 20.833333333333332,
    "scale": 24000
   },
   {
    "level": 6,
    "resolution": 13.888888888888888,
    "scale": 16000
   },
   {
    "level": 7,
    "resolution": 10.416666666666666,
    "scale": 12000
   },
   {
    "level": 8,
    "resolution": 6.25,
    "scale": 7200
   },
   {
    "level": 9,
    "resolution": 4.166666666666666,
    "scale": 4800
   },
   {
    "level": 10,
    "resolution": 2.083333333333333,
    "scale": 2400
   },
   {
    "level": 11,
    "resolution": 1.0416666666666665,
    "scale": 1200
   },
   {
    "level": 12,
    "resolution": 0.625,
    "scale": 720
   }
  ]
 },
 "cacheType": "Map",
 "allowRasterFunction": true,
 "rasterFunctionInfos": [
  {
   "name": "None",
   "description": "",
   "help": ""
  }
 ],
 "rasterTypeInfos": [
  {
   "name": "Raster Dataset",
   "description": "Supports all ArcGIS Raster Datasets",
   "help": ""
  }
 ],
 "mensurationCapabilities": "Basic",
 "hasHistograms": true,
 "hasColormap": false,
 "hasRasterAttributeTable": false,
 "minScale": 300000,
 "maxScale": 720,
 "exportTilesAllowed": false,
 "hasMultidimensions": false,
 "supportsStatistics": false,
 "supportsAdvancedQueries": false,
 "editFieldsInfo": null,
 "ownershipBasedAccessControlForRasters": null,
 "allowComputeTiePoints": false,
 "useStandardizedQueries": true,
 "advancedQueryCapabilities": {
  "useStandardizedQueries": true,
  "supportsStatistics": false,
  "supportsOrderBy": false,
  "supportsDistinct": false,
  "supportsPagination": false
 },
 "spatialReference": {
  "wkid": 2872,
  "latestWkid": 2872
 }
}
