{ "currentVersion": 10.81, "serviceDescription": "
GeoWing worked with the City of Sausalito Public Works Department to define the project goals and schedule. The work was directed by Jonathon Goldman, PE, QSD, CFM, Director of Public Works, City Engineer, and ADA Coordinator. The City's Project Manager for the project was Jill Barnes, PE. The project contract was signed and the notice to proceed was provided on January 31, 2017 in the City's office at 420 Litho Street in downtown Sausalito, CA.<\/span><\/p> Ground Survey: Ground survey services were provided under separate contract to the firm of Linda A. Carruthers & Associates Land Surveyors of Sausalito, California (Carruthers). The surveyor in charge of the survey for this project was Linda A. Carruthers. Carruthers surveyed 31 primary control locations for the project and 3 base stations. Carruthers surveyed 15 check locations. Carruthers reports the following information on the datum and coordinate system for this project:<\/span><\/p> Horizontal Datum: NAD83(2011) 2010.00 Epoch<\/span><\/p><\/li> Vertical Datum: NAVD 88<\/span><\/p><\/li> Geoid: GEOID 12A yes, but the NAVD88 Heights are not based on EH+GH, they are based on leveled ortho heights combined with Geoid12B and delta EH<\/span><\/p><\/li> Coordinate System: CA SPC Zone III<\/span><\/p><\/li> Units: US SURVEY FEET<\/span><\/p><\/li> Note: Epoch 2017.2 was adusted to the City of San Francisco 2013 High Precision Network (SF HPN) survey epoch 2013.65 and adjusted down to epoch 2010.<\/span><\/p><\/li><\/ul> Lidar Acquisition: GeoWing subcontracted aerial lidar acquisition to Eagle Mapping of Portland, Oregon (Eagle). Eagle operates their flight operations out of their Vancouver, BC, Canada office. Eagle utilized a Riegl Q1560 lidar instrument on this project.<\/span><\/p> Aerial Acquisition: GeoWing subcontracted aerial acquisition to SkyIMD of Richmond, CA. Acquisition was performed using a fixed-wing Cessna aircraft equipped with a Phase One RS-100 with a calibrated camera lens.<\/span><\/p> Processing: All processing was performed by GeoWing personnel using Pix4D Mapper, Agisoft, LP360 Advanced, Autodesk AutoCAD 2013, and ESRI ArcMap 10.3 processing software. All data products were delivered on or before 7/28/17.<\/span><\/p> Deliverables: <\/span><\/p><\/li> Breaklines - in AutoCAD dwg format - delivered in tiles and in one file.<\/span><\/p><\/li> Digital Terrain Model (DTM) - Civil 3D AutoCAD (in 2015 and 2017 versions of Civil3D) - 1' grid spacing and breaklines<\/span><\/p><\/li> Digital Terrain Model (DTM) - ESRI GRID format - 1' grid spacing<\/span><\/p><\/li> Lidar Point Cloud - Digital Surface Model (DSM) in ASPRS LAS format - classified to ground and non-ground<\/span><\/p><\/li> Orthophotography - Color orthorectified imagery delivered in tiles in TIFF format with tfw georeferencing - 0.1' GSD<\/span><\/p><\/li> Raw Data - Imagery, lidar swath data, and lidar trajectories<\/span><\/p><\/li> Reports and Metadata - Accuracy Report, Acquisition Reports Lidar and Imagery, Aerotriangulation Report, Lidar Processing Report, and Metadata<\/span><\/p><\/li> Tiles - shapefiles of the tile layouts for the lidar, ortho and the ESRI Grid data<\/span><\/p><\/li> Visualizations of Data - screen shots of the various data files saved in PNG format<\/span><\/p><\/li> Note: Ground Control Data - copied from the deliverables of the Land Surveyor under separate contract - Linda A. Carruthers & Associates Land Surveyors of Sausalito, California.<\/span><\/p><\/li> <\/p><\/li><\/ul><\/div><\/div><\/div>",
"name": "Orthos/2017Sausalito",
"description": " GeoWing worked with the City of Sausalito Public Works Department to define the project goals and schedule. The work was directed by Jonathon Goldman, PE, QSD, CFM, Director of Public Works, City Engineer, and ADA Coordinator. The City's Project Manager for the project was Jill Barnes, PE. The project contract was signed and the notice to proceed was provided on January 31, 2017 in the City's office at 420 Litho Street in downtown Sausalito, CA.<\/span><\/p> Ground Survey: Ground survey services were provided under separate contract to the firm of Linda A. Carruthers & Associates Land Surveyors of Sausalito, California (Carruthers). The surveyor in charge of the survey for this project was Linda A. Carruthers. Carruthers surveyed 31 primary control locations for the project and 3 base stations. Carruthers surveyed 15 check locations. Carruthers reports the following information on the datum and coordinate system for this project:<\/span><\/p> Horizontal Datum: NAD83(2011) 2010.00 Epoch<\/span><\/p><\/li> Vertical Datum: NAVD 88<\/span><\/p><\/li> Geoid: GEOID 12A yes, but the NAVD88 Heights are not based on EH+GH, they are based on leveled ortho heights combined with Geoid12B and delta EH<\/span><\/p><\/li> Coordinate System: CA SPC Zone III<\/span><\/p><\/li> Units: US SURVEY FEET<\/span><\/p><\/li> Note: Epoch 2017.2 was adusted to the City of San Francisco 2013 High Precision Network (SF HPN) survey epoch 2013.65 and adjusted down to epoch 2010.<\/span><\/p><\/li><\/ul> Lidar Acquisition: GeoWing subcontracted aerial lidar acquisition to Eagle Mapping of Portland, Oregon (Eagle). Eagle operates their flight operations out of their Vancouver, BC, Canada office. Eagle utilized a Riegl Q1560 lidar instrument on this project.<\/span><\/p> Aerial Acquisition: GeoWing subcontracted aerial acquisition to SkyIMD of Richmond, CA. Acquisition was performed using a fixed-wing Cessna aircraft equipped with a Phase One RS-100 with a calibrated camera lens.<\/span><\/p> Processing: All processing was performed by GeoWing personnel using Pix4D Mapper, Agisoft, LP360 Advanced, Autodesk AutoCAD 2013, and ESRI ArcMap 10.3 processing software. All data products were delivered on or before 7/28/17.<\/span><\/p> Deliverables: <\/span><\/p><\/li> Breaklines - in AutoCAD dwg format - delivered in tiles and in one file.<\/span><\/p><\/li> Digital Terrain Model (DTM) - Civil 3D AutoCAD (in 2015 and 2017 versions of Civil3D) - 1' grid spacing and breaklines<\/span><\/p><\/li> Digital Terrain Model (DTM) - ESRI GRID format - 1' grid spacing<\/span><\/p><\/li> Lidar Point Cloud - Digital Surface Model (DSM) in ASPRS LAS format - classified to ground and non-ground<\/span><\/p><\/li> Orthophotography - Color orthorectified imagery delivered in tiles in TIFF format with tfw georeferencing - 0.1' GSD<\/span><\/p><\/li> Raw Data - Imagery, lidar swath data, and lidar trajectories<\/span><\/p><\/li> Reports and Metadata - Accuracy Report, Acquisition Reports Lidar and Imagery, Aerotriangulation Report, Lidar Processing Report, and Metadata<\/span><\/p><\/li> Tiles - shapefiles of the tile layouts for the lidar, ortho and the ESRI Grid data<\/span><\/p><\/li> Visualizations of Data - screen shots of the various data files saved in PNG format<\/span><\/p><\/li> Note: Ground Control Data - copied from the deliverables of the Land Surveyor under separate contract - Linda A. Carruthers & Associates Land Surveyors of Sausalito, California.<\/span><\/p><\/li> <\/p><\/li><\/ul><\/div><\/div><\/div>",
"extent": {
"xmin": 5981234.401519127,
"ymin": 2135625.099989388,
"xmax": 5991345.60148146,
"ymax": 2146796.4999997914,
"spatialReference": {
"wkid": 2872,
"latestWkid": 2872
}
},
"initialExtent": {
"xmin": 5981234.401519127,
"ymin": 2135625.099989388,
"xmax": 5991345.60148146,
"ymax": 2146796.4999997914,
"spatialReference": {
"wkid": 2872,
"latestWkid": 2872
}
},
"fullExtent": {
"xmin": 5981234.401519127,
"ymin": 2135625.099989388,
"xmax": 5991345.60148146,
"ymax": 2146796.4999997914,
"spatialReference": {
"wkid": 2872,
"latestWkid": 2872
}
},
"pixelSizeX": 0.09999999962747097,
"pixelSizeY": 0.10000000009312392,
"bandCount": 3,
"pixelType": "U8",
"minPixelSize": 0.10850694444444443,
"maxPixelSize": 27.777777777777775,
"copyrightText": "Contract Lead:Jonathon Goldman, PE QSD CFMDirector of Public Works, City Engineer and ADA CoordinatorCity of Sausalito420 Litho StreetSausalito, California 94965-1933JGoldman@ci.sausalito.ca.usdirect: 415-289-4176fax: 415-339-2256www.ci.sausalito.ca.usProject Manager:Jill Barnes, PEProject Managerjbarnes@ci.sausalito.ca.us415.738.5330Aerial Survey/Mapping Project Management Lead:Becky Morton, CP, CMSPresidentGeoWing Mapping, Inc.71 Stevenson Street, Suite 400San Francisco, CA 94105415-655-6878becky@geowingmapping.comSurveyor / Ground Control:Linda CarruthersLinda A. Carruthers & Associates Land SurveyorsPO Box 2053Sausalito, CA 94966solar@pacbell.net415 332-3912",
"serviceDataType": "esriImageServiceDataTypeRGB",
"minValues": [
0,
0,
0
],
"maxValues": [
255,
255,
255
],
"meanValues": [
123.36013574129466,
128.2993684030106,
98.7741190739968
],
"stdvValues": [
52.31824784502749,
48.98062224220071,
47.49144869088021
],
"objectIdField": "",
"fields": [],
"capabilities": "Mensuration,Image,Metadata",
"defaultMosaicMethod": "Center",
"allowedMosaicMethods": "",
"sortField": "",
"sortValue": null,
"sortAscending": true,
"mosaicOperator": "First",
"defaultCompressionQuality": 75,
"defaultResamplingMethod": "Bicubic",
"maxImageHeight": 4100,
"maxImageWidth": 15000,
"singleFusedMapCache": true,
"tileInfo": {
"rows": 256,
"cols": 256,
"dpi": 96,
"format": "MIXED",
"compressionQuality": 75,
"origin": {
"x": -115860600,
"y": 151575000
},
"spatialReference": {
"wkid": 2872,
"latestWkid": 2872
},
"lods": [
{
"level": 0,
"resolution": 27.777777777777775,
"scale": 32000
},
{
"level": 1,
"resolution": 20.833333333333332,
"scale": 24000
},
{
"level": 2,
"resolution": 13.888888888888888,
"scale": 16000
},
{
"level": 3,
"resolution": 10.416666666666666,
"scale": 12000
},
{
"level": 4,
"resolution": 6.25,
"scale": 7200
},
{
"level": 5,
"resolution": 4.166666666666666,
"scale": 4800
},
{
"level": 6,
"resolution": 2.083333333333333,
"scale": 2400
},
{
"level": 7,
"resolution": 1.0416666666666665,
"scale": 1200
},
{
"level": 8,
"resolution": 0.625,
"scale": 720
},
{
"level": 9,
"resolution": 0.3472222222222222,
"scale": 400
},
{
"level": 10,
"resolution": 0.21701388888888887,
"scale": 250
},
{
"level": 11,
"resolution": 0.10850694444444443,
"scale": 125
}
]
},
"cacheType": "Map",
"allowRasterFunction": true,
"rasterFunctionInfos": [
{
"name": "None",
"description": "",
"help": ""
}
],
"rasterTypeInfos": [
{
"name": "Raster Dataset",
"description": "Supports all ArcGIS Raster Datasets",
"help": ""
}
],
"mensurationCapabilities": "Basic",
"hasHistograms": true,
"hasColormap": false,
"hasRasterAttributeTable": false,
"minScale": 32000,
"maxScale": 125,
"exportTilesAllowed": false,
"hasMultidimensions": false,
"supportsStatistics": false,
"supportsAdvancedQueries": false,
"editFieldsInfo": null,
"ownershipBasedAccessControlForRasters": null,
"allowComputeTiePoints": false,
"useStandardizedQueries": true,
"advancedQueryCapabilities": {
"useStandardizedQueries": true,
"supportsStatistics": false,
"supportsOrderBy": false,
"supportsDistinct": false,
"supportsPagination": false
},
"spatialReference": {
"wkid": 2872,
"latestWkid": 2872
}
}