View In:
ArcGIS JavaScript
ArcGIS Online Map Viewer
ArcGIS Earth
ArcMap
View Footprint In:
ArcGIS Online Map Viewer
Service Description: This dataset represents a county wide, true-color and near infrared orthophoto (4-band) mosaic of the Marin County Imagery study area located in Marin County, San Mateo County and San Francisco County, CA. The imagery has been mosaicked to MrSID Generation 4 format using a 20 to 1 compression ratio. The data is projected in California State Plane Zone 3, the horizontal datum is NAD83(2011) and units are in US survey feet. The acquisition flight parameters were designed to yield a native pixel resolution of less than or equal to 0.5 ft. The Orthoimagery data was collected between 6/13/2018 and 6/23/2018 for the Golden Gate National Parks Conservancy.
Name: Orthos/2018OrthosSID
Description: This dataset represents a county wide, true-color and near infrared orthophoto (4-band) mosaic of the Marin County Imagery study area located in Marin County, San Mateo County and San Francisco County, CA. The imagery has been mosaicked to MrSID Generation 4 format using a 20 to 1 compression ratio. The data is projected in California State Plane Zone 3, the horizontal datum is NAD83(2011) and units are in US survey feet. The acquisition flight parameters were designed to yield a native pixel resolution of less than or equal to 0.5 ft. The Orthoimagery data was collected between 6/13/2018 and 6/23/2018 for the Golden Gate National Parks Conservancy.
Single Fused Map Cache: false
Extent:
XMin: 5833284
YMin: 2124000
XMax: 6012000.5
YMax: 2313203.5
Spatial Reference: 103005
(6420)
Initial Extent:
XMin: 5833284
YMin: 2124000
XMax: 6012000.5
YMax: 2313203.5
Spatial Reference: 103005
(6420)
Full Extent:
XMin: 5833284
YMin: 2124000
XMax: 6012000.5
YMax: 2313203.5
Spatial Reference: 103005
(6420)
Pixel Size X: 0.5
Pixel Size Y: 0.5
Band Count: 3
Pixel Type: U8
RasterFunction Infos: {"rasterFunctionInfos": [{
"name": "None",
"description": "",
"help": ""
}]}
Mensuration Capabilities: Basic
Has Histograms: false
Has Colormap: false
Has Multi Dimensions : false
Rendering Rule:
Min Scale: 0
Max Scale: 0
Copyright Text: Golden Gate National Parks Conservancy
Service Data Type: esriImageServiceDataTypeRGB
Min Values: N/A
Max Values: N/A
Mean Values: N/A
Standard Deviation Values: N/A
Object ID Field:
Fields:
None
Default Mosaic Method: Center
Allowed Mosaic Methods:
SortField:
SortValue: null
Mosaic Operator: First
Default Compression Quality: 75
Default Resampling Method: Bicubic
Max Record Count: null
Max Image Height: 4100
Max Image Width: 15000
Max Download Image Count: null
Max Mosaic Image Count: null
Allow Raster Function: true
Allow Copy: null
Allow Analysis: null
Allow Compute TiePoints: false
Supports Statistics: false
Supports Advanced Queries: false
Use StandardizedQueries: true
Raster Type Infos:
Name: Raster Dataset
Description: Supports all ArcGIS Raster Datasets
Help:
Has Raster Attribute Table: false
Edit Fields Info: null
Ownership Based AccessControl For Rasters: null
Child Resources:
Info
Key Properties
Legend
Raster Function Infos
Supported Operations:
Export Image
Identify
Measure
Compute Histograms
Compute Statistics Histograms
Get Samples
Compute Class Statistics
Query Boundary
Compute Pixel Location
Validate
Project