{ "currentVersion": 10.81, "serviceDescription": "
This dataset represents a county wide, true-color and near infrared orthophoto (4-band) mosaic of the Marin County Imagery study area located in Marin County, San Mateo County and San Francisco County, CA. The imagery has been mosaicked to MrSID Generation 4 format using a 20 to 1 compression ratio. The data is projected in California State Plane Zone 3, the horizontal datum is NAD83(2011) and units are in US survey feet. The acquisition flight parameters were designed to yield a native pixel resolution of less than or equal to 0.5 ft. The Orthoimagery data was collected between 6/13/2018 and 6/23/2018 for the Golden Gate National Parks Conservancy.<\/span><\/p><\/div><\/div>",
"name": "Orthos/2018OrthosSID",
"description": " This dataset represents a county wide, true-color and near infrared orthophoto (4-band) mosaic of the Marin County Imagery study area located in Marin County, San Mateo County and San Francisco County, CA. The imagery has been mosaicked to MrSID Generation 4 format using a 20 to 1 compression ratio. The data is projected in California State Plane Zone 3, the horizontal datum is NAD83(2011) and units are in US survey feet. The acquisition flight parameters were designed to yield a native pixel resolution of less than or equal to 0.5 ft. The Orthoimagery data was collected between 6/13/2018 and 6/23/2018 for the Golden Gate National Parks Conservancy.<\/span><\/p><\/div><\/div>",
"extent": {
"xmin": 5833284,
"ymin": 2124000,
"xmax": 6012000.5,
"ymax": 2313203.5,
"spatialReference": {
"wkid": 103005,
"latestWkid": 6420
}
},
"initialExtent": {
"xmin": 5833284,
"ymin": 2124000,
"xmax": 6012000.5,
"ymax": 2313203.5,
"spatialReference": {
"wkid": 103005,
"latestWkid": 6420
}
},
"fullExtent": {
"xmin": 5833284,
"ymin": 2124000,
"xmax": 6012000.5,
"ymax": 2313203.5,
"spatialReference": {
"wkid": 103005,
"latestWkid": 6420
}
},
"pixelSizeX": 0.5,
"pixelSizeY": 0.5,
"bandCount": 3,
"pixelType": "U8",
"minPixelSize": 0,
"maxPixelSize": 0,
"copyrightText": "Golden Gate National Parks Conservancy",
"serviceDataType": "esriImageServiceDataTypeRGB",
"minValues": [],
"maxValues": [],
"meanValues": [],
"stdvValues": [],
"objectIdField": "",
"fields": [],
"capabilities": "Mensuration,Image,Metadata",
"defaultMosaicMethod": "Center",
"allowedMosaicMethods": "",
"sortField": "",
"sortValue": null,
"sortAscending": true,
"mosaicOperator": "First",
"defaultCompressionQuality": 75,
"defaultResamplingMethod": "Bicubic",
"maxImageHeight": 4100,
"maxImageWidth": 15000,
"allowRasterFunction": true,
"rasterFunctionInfos": [
{
"name": "None",
"description": "",
"help": ""
}
],
"rasterTypeInfos": [
{
"name": "Raster Dataset",
"description": "Supports all ArcGIS Raster Datasets",
"help": ""
}
],
"mensurationCapabilities": "Basic",
"hasHistograms": false,
"hasColormap": false,
"hasRasterAttributeTable": false,
"minScale": 0,
"maxScale": 0,
"exportTilesAllowed": false,
"hasMultidimensions": false,
"supportsStatistics": false,
"supportsAdvancedQueries": false,
"editFieldsInfo": null,
"ownershipBasedAccessControlForRasters": null,
"allowComputeTiePoints": false,
"useStandardizedQueries": true,
"advancedQueryCapabilities": {
"useStandardizedQueries": true,
"supportsStatistics": false,
"supportsOrderBy": false,
"supportsDistinct": false,
"supportsPagination": false
},
"spatialReference": {
"wkid": 103005,
"latestWkid": 6420
}
}