{
 "currentVersion": 10.81,
 "serviceDescription": "Regional/Fairfax_slope2",
 "name": "Regional/Fairfax_slope2",
 "description": "",
 "extent": {
  "xmin": 5950664.83379211,
  "ymin": 2183562.964313425,
  "xmax": 5962447.333792111,
  "ymax": 2196924.964313426,
  "spatialReference": {
   "wkid": 2872,
   "latestWkid": 2872
  }
 },
 "initialExtent": {
  "xmin": 5950664.83379211,
  "ymin": 2183562.964313425,
  "xmax": 5962447.333792111,
  "ymax": 2196924.964313426,
  "spatialReference": {
   "wkid": 2872,
   "latestWkid": 2872
  }
 },
 "fullExtent": {
  "xmin": 5950664.83379211,
  "ymin": 2183562.964313425,
  "xmax": 5962447.333792111,
  "ymax": 2196924.964313426,
  "spatialReference": {
   "wkid": 2872,
   "latestWkid": 2872
  }
 },
 "pixelSizeX": 1.5000000000001186,
 "pixelSizeY": 1.5000000000001046,
 "bandCount": 1,
 "pixelType": "U16",
 "minPixelSize": 0,
 "maxPixelSize": 0,
 "copyrightText": "",
 "serviceDataType": "esriImageServiceDataTypeGeneric",
 "minValues": [
  5
 ],
 "maxValues": [
  1126
 ],
 "meanValues": [
  446.8107179351155
 ],
 "stdvValues": [
  529.1525184469899
 ],
 "objectIdField": "",
 "fields": [],
 "capabilities": "Mensuration,Image,Metadata",
 "defaultMosaicMethod": "Center",
 "allowedMosaicMethods": "",
 "sortField": "",
 "sortValue": null,
 "sortAscending": true,
 "mosaicOperator": "First",
 "defaultCompressionQuality": 75,
 "defaultResamplingMethod": "Bilinear",
 "maxImageHeight": 4100,
 "maxImageWidth": 15000,
 "allowRasterFunction": true,
 "rasterFunctionInfos": [
  {
   "name": "None",
   "description": "",
   "help": ""
  }
 ],
 "rasterTypeInfos": [
  {
   "name": "Raster Dataset",
   "description": "Supports all ArcGIS Raster Datasets",
   "help": ""
  }
 ],
 "mensurationCapabilities": "Basic",
 "hasHistograms": true,
 "hasColormap": false,
 "hasRasterAttributeTable": true,
 "minScale": 0,
 "maxScale": 0,
 "exportTilesAllowed": false,
 "hasMultidimensions": false,
 "supportsStatistics": false,
 "supportsAdvancedQueries": false,
 "editFieldsInfo": null,
 "ownershipBasedAccessControlForRasters": null,
 "allowComputeTiePoints": false,
 "useStandardizedQueries": true,
 "advancedQueryCapabilities": {
  "useStandardizedQueries": true,
  "supportsStatistics": false,
  "supportsOrderBy": false,
  "supportsDistinct": false,
  "supportsPagination": false
 },
 "spatialReference": {
  "wkid": 2872,
  "latestWkid": 2872
 }
}
