<?xml version="1.0" encoding="UTF-8" standalone="no"?>
<metadata xml:lang="en">
<Esri>
<CreaDate>20200129</CreaDate>
<CreaTime>15002500</CreaTime>
<ArcGISFormat>1.0</ArcGISFormat>
<SyncOnce>FALSE</SyncOnce>
<DataProperties>
<lineage>
<Process Date="20200129" Time="150025" ToolSource="c:\program files (x86)\arcgis\desktop10.7\ArcToolbox\Toolboxes\Data Management Tools.tbx\CreateRasterDataset">CreateRasterDataset \\gis.marinpublic.com\ArcGISShare\Geodatabase\LIDAR2018\Marin_DEM_tiles\MarinDEMMosaic.gdb DEM2018_Harn # 32_BIT_FLOAT PROJCS['NAD_1983_HARN_StatePlane_California_III_FIPS_0403_Feet',GEOGCS['GCS_North_American_1983_HARN',DATUM['D_North_American_1983_HARN',SPHEROID['GRS_1980',6378137.0,298.257222101]],PRIMEM['Greenwich',0.0],UNIT['Degree',0.0174532925199433]],PROJECTION['Lambert_Conformal_Conic'],PARAMETER['False_Easting',6561666.666666666],PARAMETER['False_Northing',1640416.666666667],PARAMETER['Central_Meridian',-120.5],PARAMETER['Standard_Parallel_1',37.06666666666667],PARAMETER['Standard_Parallel_2',38.43333333333333],PARAMETER['Latitude_Of_Origin',36.5],UNIT['Foot_US',0.3048006096012192]] 1 # NONE "128 128" LZ77 "-115860208.666214 71428341.9643224"</Process>
<Process Date="20200129" Time="162725" ToolSource="c:\program files (x86)\arcgis\desktop10.7\ArcToolbox\Toolboxes\Data Management Tools.tbx\Mosaic">Mosaic \\gis.marinpublic.com\ArcGISShare\Geodatabase\LIDAR2018\Marin_DEM_tiles\Marin_DEM_2019_1.tif;\\gis.marinpublic.com\ArcGISShare\Geodatabase\LIDAR2018\Marin_DEM_tiles\Marin_DEM_2019_10.tif;\\gis.marinpublic.com\ArcGISShare\Geodatabase\LIDAR2018\Marin_DEM_tiles\Marin_DEM_2019_11.tif;\\gis.marinpublic.com\ArcGISShare\Geodatabase\LIDAR2018\Marin_DEM_tiles\Marin_DEM_2019_2.tif;\\gis.marinpublic.com\ArcGISShare\Geodatabase\LIDAR2018\Marin_DEM_tiles\Marin_DEM_2019_3.tif;\\gis.marinpublic.com\ArcGISShare\Geodatabase\LIDAR2018\Marin_DEM_tiles\Marin_DEM_2019_4.tif;\\gis.marinpublic.com\ArcGISShare\Geodatabase\LIDAR2018\Marin_DEM_tiles\Marin_DEM_2019_5.tif;\\gis.marinpublic.com\ArcGISShare\Geodatabase\LIDAR2018\Marin_DEM_tiles\Marin_DEM_2019_6.tif;\\gis.marinpublic.com\ArcGISShare\Geodatabase\LIDAR2018\Marin_DEM_tiles\Marin_DEM_2019_7.tif;\\gis.marinpublic.com\ArcGISShare\Geodatabase\LIDAR2018\Marin_DEM_tiles\Marin_DEM_2019_8.tif;\\gis.marinpublic.com\ArcGISShare\Geodatabase\LIDAR2018\Marin_DEM_tiles\Marin_DEM_2019_9.tif \\gis.marinpublic.com\ArcGISShare\Geodatabase\LIDAR2018\Marin_DEM_tiles\MarinDEMMosaic.gdb\DEM2018_Harn LAST FIRST # # NONE 0 NONE</Process>
<Process Date="20200130" Time="042326" ToolSource="c:\program files (x86)\arcgis\desktop10.7\ArcToolbox\Toolboxes\Data Management Tools.tbx\BuildPyramids">BuildPyramids \\gis.marinpublic.com\ArcGISShare\Geodatabase\LIDAR2018\Marin_DEM_tiles\MarinDEMMosaic.gdb\DEM2018_Harn -1 NONE CUBIC DEFAULT 75 OVERWRITE</Process>
<Process Date="20200130" Time="042806" ToolSource="c:\program files (x86)\arcgis\desktop10.7\ArcToolbox\Toolboxes\Data Management Tools.tbx\BuildPyramids">BuildPyramids //gis.marinpublic.com/ArcGISShare/Geodatabase/LIDAR2018/Marin_DEM_tiles/MarinDEMMosaic.gdb/DEM2018_Harn -1 NONE CUBIC DEFAULT 75 OVERWRITE</Process>
<Process Date="20200130" Time="044438" ToolSource="c:\program files (x86)\arcgis\desktop10.7\ArcToolbox\Toolboxes\Data Management Tools.tbx\BuildPyramids">BuildPyramids //gis.marinpublic.com/ArcGISShare/Geodatabase/LIDAR2018/Marin_DEM_tiles/MarinDEMMosaic.gdb/DEM2018_Harn 0 NONE CUBIC DEFAULT 75 OVERWRITE</Process>
<Process Date="20200130" Time="052853" ToolSource="c:\program files (x86)\arcgis\desktop10.7\ArcToolbox\Toolboxes\Data Management Tools.tbx\BuildPyramids">BuildPyramids //gis.marinpublic.com/ArcGISShare/Geodatabase/LIDAR2018/Marin_DEM_tiles/MarinDEMMosaic.gdb/DEM2018_Harn -1 NONE CUBIC DEFAULT 75 OVERWRITE</Process>
<Process Date="20200130" Time="102311" ToolSource="c:\program files (x86)\arcgis\desktop10.6\ArcToolbox\Toolboxes\Data Management Tools.tbx\CalculateStatistics">CalculateStatistics \\gis.marinpublic.com\ArcGISShare\Geodatabase\LIDAR2018\Marin_DEM_tiles\MarinDEMMosaic.gdb\DEM2018_Harn 1 1 # OVERWRITE "Feature Set"</Process>
<Process Date="20220421" Time="155351" ToolSource="c:\program files (x86)\arcgis\desktop10.8\ArcToolbox\Toolboxes\Data Management Tools.tbx\BuildPyramids">BuildPyramids \\gis.marinpublic.com\arcgisshare\Data\LIDAR.gdb\DEM_2018_2019 -1 NONE CUBIC LZ77 75 OVERWRITE</Process>
</lineage>
<itemProps>
<itemName Sync="TRUE">MarinMap.DBO.DEM_2018_2019</itemName>
<imsContentType Sync="TRUE">002</imsContentType>
<nativeExtBox>
<westBL Sync="TRUE">5830034.833792</westBL>
<eastBL Sync="TRUE">6012284.833792</eastBL>
<southBL Sync="TRUE">2121884.464313</southBL>
<northBL Sync="TRUE">2315384.464313</northBL>
<exTypeCode Sync="TRUE">1</exTypeCode>
</nativeExtBox>
<itemLocation>
<linkage Sync="TRUE">Server=marinmapsde; Service=sde:sqlserver:marinmapsde; Database=MarinMap; Version=sde.DEFAULT</linkage>
<protocol Sync="TRUE">ArcSDE Connection</protocol>
</itemLocation>
</itemProps>
<coordRef>
<type Sync="TRUE">Projected</type>
<geogcsn Sync="TRUE">GCS_North_American_1983_HARN</geogcsn>
<csUnits Sync="TRUE">Linear Unit: Foot_US (0.304801)</csUnits>
<projcsn Sync="TRUE">NAD_1983_HARN_StatePlane_California_III_FIPS_0403_Feet</projcsn>
<peXml Sync="TRUE">&lt;ProjectedCoordinateSystem xsi:type='typens:ProjectedCoordinateSystem' xmlns:xsi='http://www.w3.org/2001/XMLSchema-instance' xmlns:xs='http://www.w3.org/2001/XMLSchema' xmlns:typens='http://www.esri.com/schemas/ArcGIS/10.8'&gt;&lt;WKT&gt;PROJCS[&amp;quot;NAD_1983_HARN_StatePlane_California_III_FIPS_0403_Feet&amp;quot;,GEOGCS[&amp;quot;GCS_North_American_1983_HARN&amp;quot;,DATUM[&amp;quot;D_North_American_1983_HARN&amp;quot;,SPHEROID[&amp;quot;GRS_1980&amp;quot;,6378137.0,298.257222101]],PRIMEM[&amp;quot;Greenwich&amp;quot;,0.0],UNIT[&amp;quot;Degree&amp;quot;,0.0174532925199433]],PROJECTION[&amp;quot;Lambert_Conformal_Conic&amp;quot;],PARAMETER[&amp;quot;False_Easting&amp;quot;,6561666.666666666],PARAMETER[&amp;quot;False_Northing&amp;quot;,1640416.666666667],PARAMETER[&amp;quot;Central_Meridian&amp;quot;,-120.5],PARAMETER[&amp;quot;Standard_Parallel_1&amp;quot;,37.06666666666667],PARAMETER[&amp;quot;Standard_Parallel_2&amp;quot;,38.43333333333333],PARAMETER[&amp;quot;Latitude_Of_Origin&amp;quot;,36.5],UNIT[&amp;quot;Foot_US&amp;quot;,0.3048006096012192],AUTHORITY[&amp;quot;EPSG&amp;quot;,2872]]&lt;/WKT&gt;&lt;XOrigin&gt;-115860600&lt;/XOrigin&gt;&lt;YOrigin&gt;-93269500&lt;/YOrigin&gt;&lt;XYScale&gt;36787427.345686711&lt;/XYScale&gt;&lt;ZOrigin&gt;-100000&lt;/ZOrigin&gt;&lt;ZScale&gt;10000&lt;/ZScale&gt;&lt;MOrigin&gt;-100000&lt;/MOrigin&gt;&lt;MScale&gt;10000&lt;/MScale&gt;&lt;XYTolerance&gt;0.0032808333333333331&lt;/XYTolerance&gt;&lt;ZTolerance&gt;0.00020000000000000001&lt;/ZTolerance&gt;&lt;MTolerance&gt;0.00020000000000000001&lt;/MTolerance&gt;&lt;HighPrecision&gt;true&lt;/HighPrecision&gt;&lt;WKID&gt;2872&lt;/WKID&gt;&lt;LatestWKID&gt;2872&lt;/LatestWKID&gt;&lt;/ProjectedCoordinateSystem&gt;</peXml>
</coordRef>
</DataProperties>
<SyncDate>20220520</SyncDate>
<SyncTime>18242900</SyncTime>
<ModDate>20220520</ModDate>
<ModTime>18242900</ModTime>
</Esri>
<dataIdInfo>
<envirDesc Sync="TRUE"> Version 6.2 (Build 9200) ; Esri ArcGIS 10.8.1.14362</envirDesc>
<dataLang>
<languageCode Sync="TRUE" value="eng"/>
<countryCode Sync="TRUE" value="USA"/>
</dataLang>
<idCitation>
<resTitle Sync="TRUE">DEM_Harn</resTitle>
<presForm>
<PresFormCd Sync="TRUE" value="011"/>
</presForm>
</idCitation>
<spatRpType>
<SpatRepTypCd Sync="TRUE" value="002"/>
</spatRpType>
<dataExt>
<geoEle>
<GeoBndBox esriExtentType="search">
<exTypeCode Sync="TRUE">1</exTypeCode>
<westBL Sync="TRUE">-123.050655</westBL>
<eastBL Sync="TRUE">-122.401784</eastBL>
<northBL Sync="TRUE">38.338250</northBL>
<southBL Sync="TRUE">37.795125</southBL>
</GeoBndBox>
</geoEle>
</dataExt>
<idAbs/>
<searchKeys>
<keyword>DEM</keyword>
<keyword>LIDAR</keyword>
</searchKeys>
<idPurp>Digital Elevation Model DEM for 2018/19 LIDAR</idPurp>
<idCredit/>
<resConst>
<Consts>
<useLimit/>
</Consts>
</resConst>
</dataIdInfo>
<mdLang>
<languageCode Sync="TRUE" value="eng"/>
<countryCode Sync="TRUE" value="USA"/>
</mdLang>
<distInfo>
<distFormat>
<formatName Sync="TRUE">SDE Raster Dataset</formatName>
</distFormat>
</distInfo>
<mdHrLv>
<ScopeCd Sync="TRUE" value="005"/>
</mdHrLv>
<mdHrLvName Sync="TRUE">dataset</mdHrLvName>
<refSysInfo>
<RefSystem>
<refSysID>
<identCode Sync="TRUE" code="2872"/>
<idCodeSpace Sync="TRUE">EPSG</idCodeSpace>
<idVersion Sync="TRUE">8.9.3(9.0.0)</idVersion>
</refSysID>
</RefSystem>
</refSysInfo>
<spdoinfo>
<rastinfo>
<rasttype Sync="TRUE">Pixel</rasttype>
<rowcount Sync="TRUE">129000</rowcount>
<colcount Sync="TRUE">121500</colcount>
<rastxsz Sync="TRUE">1.500000</rastxsz>
<rastysz Sync="TRUE">1.500000</rastysz>
<rastbpp Sync="TRUE">32</rastbpp>
<vrtcount Sync="TRUE">1</vrtcount>
<rastorig Sync="TRUE">Upper Left</rastorig>
<rastcmap Sync="TRUE">FALSE</rastcmap>
<rastcomp Sync="TRUE">LZ77</rastcomp>
<rastband Sync="TRUE">1</rastband>
<rastdtyp Sync="TRUE">pixel codes</rastdtyp>
<rastifor Sync="TRUE">SDR</rastifor>
<rastplyr Sync="TRUE">TRUE</rastplyr>
</rastinfo>
</spdoinfo>
<spref>
<horizsys>
<planar>
<planci>
<plance Sync="TRUE">row and column</plance>
<coordrep>
<absres Sync="TRUE">1.500000</absres>
<ordres Sync="TRUE">1.500000</ordres>
</coordrep>
</planci>
</planar>
</horizsys>
</spref>
<mdDateSt Sync="TRUE">20220520</mdDateSt>
</metadata>
