{
 "currentVersion": 10.81,
 "serviceDescription": "LIDAR/DSM_Harn",
 "name": "LIDAR/DSM_Harn",
 "description": "",
 "extent": {
  "xmin": 5830034.999999997,
  "ymin": 2121884.0000000005,
  "xmax": 6012285.000000001,
  "ymax": 2315383.9999999977,
  "spatialReference": {
   "wkid": 2872,
   "latestWkid": 2872
  }
 },
 "initialExtent": {
  "xmin": 5830034.999999997,
  "ymin": 2121884.0000000005,
  "xmax": 6012285.000000001,
  "ymax": 2315383.9999999977,
  "spatialReference": {
   "wkid": 2872,
   "latestWkid": 2872
  }
 },
 "fullExtent": {
  "xmin": 5830034.999999997,
  "ymin": 2121884.0000000005,
  "xmax": 6012285.000000001,
  "ymax": 2315383.9999999977,
  "spatialReference": {
   "wkid": 2872,
   "latestWkid": 2872
  }
 },
 "pixelSizeX": 1.5000000000000306,
 "pixelSizeY": 1.4999999999999782,
 "datasetFormat": "FGDBR",
 "uncompressedSize": 62694000000,
 "blockWidth": 128,
 "blockHeight": 128,
 "compressionType": "LZ77",
 "bandNames": [
  "Band_1"
 ],
 "allowCopy": true,
 "allowAnalysis": true,
 "bandCount": 1,
 "pixelType": "F32",
 "minPixelSize": 0,
 "maxPixelSize": 0,
 "copyrightText": "",
 "serviceDataType": "esriImageServiceDataTypeGeneric",
 "serviceSourceType": "esriImageServiceSourceTypeDataset",
 "minValues": [
  -341.66021728515625
 ],
 "maxValues": [
  2645.314208984375
 ],
 "meanValues": [
  374.96044891118635
 ],
 "stdvValues": [
  381.1764759893398
 ],
 "objectIdField": "",
 "fields": [],
 "capabilities": "Mensuration,Image,Metadata",
 "defaultMosaicMethod": "Center",
 "allowedMosaicMethods": "",
 "sortField": "",
 "sortValue": null,
 "sortAscending": true,
 "mosaicOperator": "First",
 "defaultCompressionQuality": 75,
 "defaultResamplingMethod": "Bicubic",
 "maxImageHeight": 4100,
 "maxImageWidth": 15000,
 "allowRasterFunction": true,
 "rasterFunctionInfos": [
  {
   "name": "None",
   "description": "",
   "help": ""
  }
 ],
 "rasterTypeInfos": [
  {
   "name": "Raster Dataset",
   "description": "Supports all ArcGIS Raster Datasets",
   "help": ""
  }
 ],
 "mensurationCapabilities": "Basic",
 "hasHistograms": true,
 "hasColormap": false,
 "hasRasterAttributeTable": false,
 "minScale": 0,
 "maxScale": 0,
 "exportTilesAllowed": false,
 "hasMultidimensions": false,
 "supportsStatistics": false,
 "supportsAdvancedQueries": false,
 "editFieldsInfo": null,
 "ownershipBasedAccessControlForRasters": null,
 "allowComputeTiePoints": false,
 "useStandardizedQueries": true,
 "advancedQueryCapabilities": {
  "useStandardizedQueries": true,
  "supportsStatistics": false,
  "supportsOrderBy": false,
  "supportsDistinct": false,
  "supportsPagination": false
 },
 "spatialReference": {
  "wkid": 2872,
  "latestWkid": 2872
 }
}