<?xml version="1.0" encoding="UTF-8" standalone="no"?>
<metadata xml:lang="en">
<Esri>
<CreaDate>20200201</CreaDate>
<CreaTime>13044700</CreaTime>
<ArcGISFormat>1.0</ArcGISFormat>
<SyncOnce>FALSE</SyncOnce>
<DataProperties>
<lineage>
<Process Date="20200201" Time="130447" ToolSource="c:\program files (x86)\arcgis\desktop10.6\ArcToolbox\Toolboxes\Data Management Tools.tbx\CreateRasterDataset">CreateRasterDataset \\gis.marinpublic.com\ArcGISShare\Geodatabase\LIDAR2018\Marin_Hillshade_tiles\MarinHillshadeMosaic.gdb HillShadeWGS2018 # 32_BIT_FLOAT PROJCS['WGS_1984_Web_Mercator_Auxiliary_Sphere',GEOGCS['GCS_WGS_1984',DATUM['D_WGS_1984',SPHEROID['WGS_1984',6378137.0,298.257223563]],PRIMEM['Greenwich',0.0],UNIT['Degree',0.0174532925199433]],PROJECTION['Mercator_Auxiliary_Sphere'],PARAMETER['False_Easting',0.0],PARAMETER['False_Northing',0.0],PARAMETER['Central_Meridian',0.0],PARAMETER['Standard_Parallel_1',0.0],PARAMETER['Auxiliary_Sphere_Type',0.0],UNIT['Meter',1.0]] 1 # "PYRAMIDS -1 NEAREST DEFAULT 75 NO_SKIP" "128 128" LZ77 "-20037507.8427882 30240971.4583861"</Process>
<Process Date="20200201" Time="142211" ToolSource="c:\program files (x86)\arcgis\desktop10.6\ArcToolbox\Toolboxes\Data Management Tools.tbx\Mosaic">Mosaic \\gis.marinpublic.com\ArcGISShare\Geodatabase\LIDAR2018\Marin_Hillshade_tiles\Marin_Hillshade_2019_1.tif;\\gis.marinpublic.com\ArcGISShare\Geodatabase\LIDAR2018\Marin_Hillshade_tiles\Marin_Hillshade_2019_10.tif;\\gis.marinpublic.com\ArcGISShare\Geodatabase\LIDAR2018\Marin_Hillshade_tiles\Marin_Hillshade_2019_11.tif;\\gis.marinpublic.com\ArcGISShare\Geodatabase\LIDAR2018\Marin_Hillshade_tiles\Marin_Hillshade_2019_2.tif;\\gis.marinpublic.com\ArcGISShare\Geodatabase\LIDAR2018\Marin_Hillshade_tiles\Marin_Hillshade_2019_3.tif;\\gis.marinpublic.com\ArcGISShare\Geodatabase\LIDAR2018\Marin_Hillshade_tiles\Marin_Hillshade_2019_4.tif;\\gis.marinpublic.com\ArcGISShare\Geodatabase\LIDAR2018\Marin_Hillshade_tiles\Marin_Hillshade_2019_5.tif;\\gis.marinpublic.com\ArcGISShare\Geodatabase\LIDAR2018\Marin_Hillshade_tiles\Marin_Hillshade_2019_6.tif;\\gis.marinpublic.com\ArcGISShare\Geodatabase\LIDAR2018\Marin_Hillshade_tiles\Marin_Hillshade_2019_7.tif;\\gis.marinpublic.com\ArcGISShare\Geodatabase\LIDAR2018\Marin_Hillshade_tiles\Marin_Hillshade_2019_8.tif;\\gis.marinpublic.com\ArcGISShare\Geodatabase\LIDAR2018\Marin_Hillshade_tiles\Marin_Hillshade_2019_9.tif \\gis.marinpublic.com\ArcGISShare\Geodatabase\LIDAR2018\Marin_Hillshade_tiles\MarinHillshadeMosaic.gdb\HillShadeWGS2018 LAST FIRST # # NONE 0 NONE</Process>
<Process Date="20200202" Time="153416" ToolSource="c:\program files (x86)\arcgis\desktop10.6\ArcToolbox\Toolboxes\Data Management Tools.tbx\CalculateStatistics">CalculateStatistics \\gis.marinpublic.com\ArcGISShare\Geodatabase\LIDAR2018\Marin_Hillshade_tiles\MarinHillshadeMosaic.gdb\HillShade2018_WGS 1 1 # OVERWRITE "Feature Set"</Process>
<Process Date="20200202" Time="212138" ToolSource="c:\program files (x86)\arcgis\desktop10.6\ArcToolbox\Toolboxes\Data Management Tools.tbx\BuildPyramids">BuildPyramids \\gis.marinpublic.com\ArcGISShare\Geodatabase\LIDAR2018\Marin_Hillshade_tiles\MarinHillshadeMosaic.gdb\HillShade2018_WGS -1 NONE CUBIC DEFAULT 75 OVERWRITE</Process>
<Process Date="20220425" Time="165845" ToolSource="c:\program files (x86)\arcgis\desktop10.8\ArcToolbox\Toolboxes\Data Management Tools.tbx\BuildPyramids">BuildPyramids \\gis.marinpublic.com\arcgisshare\Data\LIDAR.gdb\HillShade2018_WGS 0 NONE CUBIC LZ77 75 OVERWRITE</Process>
<Process Date="20220425" Time="172945" ToolSource="c:\program files (x86)\arcgis\desktop10.8\ArcToolbox\Toolboxes\Data Management Tools.tbx\BuildPyramids">BuildPyramids \\gis.marinpublic.com\arcgisshare\Data\LIDAR.gdb\HillShade2018_WGS -1 NONE CUBIC LZ77 75 OVERWRITE</Process>
</lineage>
<itemProps>
<itemName Sync="TRUE">HillShade2018_WGS</itemName>
<imsContentType Sync="TRUE">002</imsContentType>
<nativeExtBox>
<westBL Sync="TRUE">-13697255.939830</westBL>
<eastBL Sync="TRUE">-13625704.085822</eastBL>
<southBL Sync="TRUE">4551418.787384</southBL>
<northBL Sync="TRUE">4626533.143361</northBL>
<exTypeCode Sync="TRUE">1</exTypeCode>
</nativeExtBox>
<itemLocation>
<linkage Sync="TRUE">file://\\gis.marinpublic.com\arcgisshare\Data\LIDAR.gdb</linkage>
<protocol Sync="TRUE">Local Area Network</protocol>
</itemLocation>
</itemProps>
<coordRef>
<type Sync="TRUE">Projected</type>
<geogcsn Sync="TRUE">GCS_WGS_1984</geogcsn>
<csUnits Sync="TRUE">Linear Unit: Meter (1.000000)</csUnits>
<projcsn Sync="TRUE">WGS_1984_Web_Mercator_Auxiliary_Sphere</projcsn>
<peXml Sync="TRUE">&lt;ProjectedCoordinateSystem xsi:type='typens:ProjectedCoordinateSystem' xmlns:xsi='http://www.w3.org/2001/XMLSchema-instance' xmlns:xs='http://www.w3.org/2001/XMLSchema' xmlns:typens='http://www.esri.com/schemas/ArcGIS/10.8'&gt;&lt;WKT&gt;PROJCS[&amp;quot;WGS_1984_Web_Mercator_Auxiliary_Sphere&amp;quot;,GEOGCS[&amp;quot;GCS_WGS_1984&amp;quot;,DATUM[&amp;quot;D_WGS_1984&amp;quot;,SPHEROID[&amp;quot;WGS_1984&amp;quot;,6378137.0,298.257223563]],PRIMEM[&amp;quot;Greenwich&amp;quot;,0.0],UNIT[&amp;quot;Degree&amp;quot;,0.0174532925199433]],PROJECTION[&amp;quot;Mercator_Auxiliary_Sphere&amp;quot;],PARAMETER[&amp;quot;False_Easting&amp;quot;,0.0],PARAMETER[&amp;quot;False_Northing&amp;quot;,0.0],PARAMETER[&amp;quot;Central_Meridian&amp;quot;,0.0],PARAMETER[&amp;quot;Standard_Parallel_1&amp;quot;,0.0],PARAMETER[&amp;quot;Auxiliary_Sphere_Type&amp;quot;,0.0],UNIT[&amp;quot;Meter&amp;quot;,1.0],AUTHORITY[&amp;quot;EPSG&amp;quot;,3857]]&lt;/WKT&gt;&lt;XOrigin&gt;-20037700&lt;/XOrigin&gt;&lt;YOrigin&gt;-30241100&lt;/YOrigin&gt;&lt;XYScale&gt;148923141.92838538&lt;/XYScale&gt;&lt;ZOrigin&gt;-100000&lt;/ZOrigin&gt;&lt;ZScale&gt;10000&lt;/ZScale&gt;&lt;MOrigin&gt;-100000&lt;/MOrigin&gt;&lt;MScale&gt;10000&lt;/MScale&gt;&lt;XYTolerance&gt;0.001&lt;/XYTolerance&gt;&lt;ZTolerance&gt;0.001&lt;/ZTolerance&gt;&lt;MTolerance&gt;0.001&lt;/MTolerance&gt;&lt;HighPrecision&gt;true&lt;/HighPrecision&gt;&lt;WKID&gt;102100&lt;/WKID&gt;&lt;LatestWKID&gt;3857&lt;/LatestWKID&gt;&lt;/ProjectedCoordinateSystem&gt;</peXml>
</coordRef>
</DataProperties>
<SyncDate>20220425</SyncDate>
<SyncTime>15055100</SyncTime>
<ModDate>20220425</ModDate>
<ModTime>15055100</ModTime>
</Esri>
<dataIdInfo>
<envirDesc Sync="TRUE"> Version 6.2 (Build 9200) ; Esri ArcGIS 10.8.1.14362</envirDesc>
<dataLang>
<languageCode Sync="TRUE" value="eng"/>
<countryCode Sync="TRUE" value="USA"/>
</dataLang>
<idCitation>
<resTitle Sync="TRUE">Hillshade_WGS</resTitle>
<presForm>
<PresFormCd Sync="TRUE" value="011"/>
</presForm>
</idCitation>
<spatRpType>
<SpatRepTypCd Sync="TRUE" value="002"/>
</spatRpType>
<dataExt>
<geoEle>
<GeoBndBox esriExtentType="search">
<exTypeCode Sync="TRUE">1</exTypeCode>
<westBL Sync="TRUE">-123.044544</westBL>
<eastBL Sync="TRUE">-122.401782</eastBL>
<northBL Sync="TRUE">38.332705</northBL>
<southBL Sync="TRUE">37.801475</southBL>
</GeoBndBox>
</geoEle>
</dataExt>
<idAbs/>
<searchKeys>
<keyword>Hillshade 2018 LIDAR</keyword>
</searchKeys>
<idPurp>Hillshade from 2018 LIDAR</idPurp>
<idCredit/>
<resConst>
<Consts>
<useLimit/>
</Consts>
</resConst>
</dataIdInfo>
<mdLang>
<languageCode Sync="TRUE" value="eng"/>
<countryCode Sync="TRUE" value="USA"/>
</mdLang>
<distInfo>
<distFormat>
<formatName Sync="TRUE">File Geodatabase Raster Dataset</formatName>
</distFormat>
</distInfo>
<mdHrLv>
<ScopeCd Sync="TRUE" value="005"/>
</mdHrLv>
<mdHrLvName Sync="TRUE">dataset</mdHrLvName>
<refSysInfo>
<RefSystem>
<refSysID>
<identCode Sync="TRUE" code="3857"/>
<idCodeSpace Sync="TRUE">EPSG</idCodeSpace>
<idVersion Sync="TRUE">8.8(9.3.1.2)</idVersion>
</refSysID>
</RefSystem>
</refSysInfo>
<spdoinfo>
<rastinfo>
<rasttype Sync="TRUE">Pixel</rasttype>
<rowcount Sync="TRUE">126681</rowcount>
<colcount Sync="TRUE">118032</colcount>
<rastxsz Sync="TRUE">0.606207</rastxsz>
<rastysz Sync="TRUE">0.592941</rastysz>
<rastbpp Sync="TRUE">32</rastbpp>
<vrtcount Sync="TRUE">1</vrtcount>
<rastorig Sync="TRUE">Upper Left</rastorig>
<rastcmap Sync="TRUE">FALSE</rastcmap>
<rastcomp Sync="TRUE">LZ77</rastcomp>
<rastband Sync="TRUE">1</rastband>
<rastdtyp Sync="TRUE">pixel codes</rastdtyp>
<rastifor Sync="TRUE">FGDBR</rastifor>
<rastplyr Sync="TRUE">TRUE</rastplyr>
</rastinfo>
</spdoinfo>
<spref>
<horizsys>
<planar>
<planci>
<plance Sync="TRUE">row and column</plance>
<coordrep>
<absres Sync="TRUE">0.606207</absres>
<ordres Sync="TRUE">0.592941</ordres>
</coordrep>
</planci>
</planar>
</horizsys>
</spref>
<mdDateSt Sync="TRUE">20220425</mdDateSt>
</metadata>
