<?xml version="1.0" encoding="UTF-8" standalone="no"?>
<metadata xml:lang="en">
<Esri>
<CreaDate>20191218</CreaDate>
<CreaTime>13343000</CreaTime>
<ArcGISFormat>1.0</ArcGISFormat>
<SyncOnce>FALSE</SyncOnce>
<DataProperties>
<itemProps>
<itemName Sync="TRUE">MARIN_2019_CANCOV_3FT</itemName>
<itemLocation>
<linkage Sync="TRUE">file://\\gis.marinpublic.com\arcgisshare\Geodatabase\LIDAR2018\MARIN_2019_CANCOV_3FT.gdb</linkage>
<protocol Sync="TRUE">Local Area Network</protocol>
</itemLocation>
<imsContentType Sync="TRUE">002</imsContentType>
<nativeExtBox>
<westBL Sync="TRUE">5829600.000000</westBL>
<eastBL Sync="TRUE">6012300.000000</eastBL>
<southBL Sync="TRUE">2121000.000000</southBL>
<northBL Sync="TRUE">2316300.000000</northBL>
<exTypeCode Sync="TRUE">1</exTypeCode>
</nativeExtBox>
</itemProps>
<coordRef>
<type Sync="TRUE">Projected</type>
<geogcsn Sync="TRUE">GCS_North_American_1983</geogcsn>
<csUnits Sync="TRUE">Linear Unit: Foot_US (0.304801)</csUnits>
<projcsn Sync="TRUE">NAD_1983_2011_StatePlane_California_III_FIPS_0403_Ft_US</projcsn>
<peXml Sync="TRUE">&lt;ProjectedCoordinateSystem xsi:type='typens:ProjectedCoordinateSystem' xmlns:xsi='http://www.w3.org/2001/XMLSchema-instance' xmlns:xs='http://www.w3.org/2001/XMLSchema' xmlns:typens='http://www.esri.com/schemas/ArcGIS/10.8'&gt;&lt;WKT&gt;PROJCS[&amp;quot;NAD_1983_2011_StatePlane_California_III_FIPS_0403_Ft_US&amp;quot;,GEOGCS[&amp;quot;GCS_North_American_1983&amp;quot;,DATUM[&amp;quot;D_EGM2008_geoid&amp;quot;,SPHEROID[&amp;quot;Unknown&amp;quot;,6378137.0,298.257222101]],PRIMEM[&amp;quot;Greenwich&amp;quot;,0.0],UNIT[&amp;quot;Degree&amp;quot;,0.0174532925199433]],PROJECTION[&amp;quot;Lambert_Conformal_Conic&amp;quot;],PARAMETER[&amp;quot;false_easting&amp;quot;,6561666.666666668],PARAMETER[&amp;quot;false_northing&amp;quot;,1640416.666666667],PARAMETER[&amp;quot;central_meridian&amp;quot;,-120.5],PARAMETER[&amp;quot;standard_parallel_1&amp;quot;,37.06666666666667],PARAMETER[&amp;quot;standard_parallel_2&amp;quot;,38.43333333333333],PARAMETER[&amp;quot;latitude_of_origin&amp;quot;,36.5],UNIT[&amp;quot;Foot_US&amp;quot;,0.3048006096012192]]&lt;/WKT&gt;&lt;XOrigin&gt;-115860600&lt;/XOrigin&gt;&lt;YOrigin&gt;-93269500&lt;/YOrigin&gt;&lt;XYScale&gt;36787427.345686711&lt;/XYScale&gt;&lt;ZOrigin&gt;-100000&lt;/ZOrigin&gt;&lt;ZScale&gt;10000&lt;/ZScale&gt;&lt;MOrigin&gt;-100000&lt;/MOrigin&gt;&lt;MScale&gt;10000&lt;/MScale&gt;&lt;XYTolerance&gt;0.0032808333333333331&lt;/XYTolerance&gt;&lt;ZTolerance&gt;0.001&lt;/ZTolerance&gt;&lt;MTolerance&gt;0.001&lt;/MTolerance&gt;&lt;HighPrecision&gt;true&lt;/HighPrecision&gt;&lt;/ProjectedCoordinateSystem&gt;</peXml>
</coordRef>
<RasterProperties>
<General>
<PixelDepth Sync="TRUE">8</PixelDepth>
<HasColormap Sync="TRUE">FALSE</HasColormap>
<CompressionType Sync="TRUE">LZW</CompressionType>
<NumBands Sync="TRUE">1</NumBands>
<Format Sync="TRUE">TIFF</Format>
<HasPyramids Sync="TRUE">FALSE</HasPyramids>
<SourceType Sync="TRUE">continuous</SourceType>
<PixelType Sync="TRUE">unsigned integer</PixelType>
<NoDataValue Sync="TRUE">3</NoDataValue>
</General>
</RasterProperties>
<lineage>
<Process Date="20191218" Name="" Time="133522" ToolSource="c:\program files\arcgis\pro\Resources\ArcToolbox\toolboxes\Data Management Tools.tbx\CalculateStatistics" export="">CalculateStatistics H:\LIDAR_PROCESSING\MARIN_2019\MARIN_2019_CANCOV_3FT.tif 1 1 # OVERWRITE "Feature Set"</Process>
<Process Date="20191218" Name="" Time="133626" ToolSource="c:\program files\arcgis\pro\Resources\ArcToolbox\toolboxes\Data Management Tools.tbx\CalculateStatistics" export="">CalculateStatistics H:\LIDAR_PROCESSING\MARIN_2019\MARIN_2019_CANCOV_3FT.tif 1 1 # OVERWRITE "Feature Set"</Process>
<Process Date="20191218" Name="" Time="133724" ToolSource="c:\program files\arcgis\pro\Resources\ArcToolbox\toolboxes\Data Management Tools.tbx\BuildPyramids" export="">BuildPyramids H:\LIDAR_PROCESSING\MARIN_2019\MARIN_2019_CANCOV_3FT.tif -1 NONE Nearest DEFAULT 75 OVERWRITE</Process>
<Process Date="20191220" Name="" Time="110206" ToolSource="c:\program files\arcgis\pro\Resources\ArcToolbox\toolboxes\Data Management Tools.tbx\CopyRaster" export="">CopyRaster H:\LIDAR_PROCESSING\MARIN_2019\MARIN_2019_CANCOV_3FT.tif H:\LIDAR_PROCESSING\MARIN_2019\MARIN_2019_CANCOV_3FT.gdb\MARIN_2019_CANCOV_3FT # # -1 NONE NONE # NONE NONE "Esri Grid" NONE CURRENT_SLICE NO_TRANSPOSE</Process>
</lineage>
</DataProperties>
<SyncDate>20220421</SyncDate>
<SyncTime>15245500</SyncTime>
<ModDate>20220421</ModDate>
<ModTime>15245500</ModTime>
<scaleRange>
<minScale>150000000</minScale>
<maxScale>5000</maxScale>
</scaleRange>
</Esri>
<dataIdInfo>
<envirDesc Sync="TRUE"> Version 6.2 (Build 9200) ; Esri ArcGIS 10.8.1.14362</envirDesc>
<dataLang>
<languageCode Sync="TRUE" value="eng"/>
<countryCode Sync="TRUE" value="USA"/>
</dataLang>
<idCitation>
<resTitle Sync="FALSE">MARIN_2019_CANCOV_3FT</resTitle>
<presForm>
<PresFormCd Sync="TRUE" value="011"/>
</presForm>
</idCitation>
<spatRpType>
<SpatRepTypCd Sync="TRUE" value="002"/>
</spatRpType>
<dataExt>
<geoEle>
<GeoBndBox esriExtentType="search">
<exTypeCode Sync="TRUE">1</exTypeCode>
<westBL Sync="TRUE">-123.052258</westBL>
<eastBL Sync="TRUE">-122.401669</eastBL>
<northBL Sync="TRUE">38.340765</northBL>
<southBL Sync="TRUE">37.792665</southBL>
</GeoBndBox>
</geoEle>
</dataExt>
<idPurp>This 3-foot resolution canopy closure raster depicts Marin County’s woody canopy that is greater than 15 feet tall as a Digital Elevation Model. A pixel value.</idPurp>
<idAbs>&lt;DIV STYLE="text-align:Left;"&gt;&lt;DIV&gt;&lt;DIV&gt;&lt;P STYLE="margin:0 0 14 0;"&gt;&lt;SPAN STYLE="font-weight:bold;font-size:12pt"&gt;Methods:&lt;/SPAN&gt;&lt;SPAN STYLE="font-size:12pt"&gt; &lt;/SPAN&gt;&lt;/P&gt;&lt;P STYLE="margin:0 0 14 0;"&gt;&lt;SPAN&gt;&lt;SPAN&gt;This canopy closure raster was derived directly from the LiDAR &lt;/SPAN&gt;&lt;/SPAN&gt;&lt;A href="https://vegmap.press/chm" STYLE="text-decoration:underline;"&gt;&lt;SPAN STYLE="text-decoration:underline;"&gt;&lt;SPAN&gt;derived canopy height model&lt;/SPAN&gt;&lt;/SPAN&gt;&lt;/A&gt;&lt;SPAN&gt;&lt;SPAN&gt;. That 3-foot resolution raster was produced from the winter, 2019 Quality Level 1 LiDAR point cloud (already ground classified) using Lastools in a multistep process. The processing steps were as follows:&lt;/SPAN&gt;&lt;/SPAN&gt;&lt;/P&gt;&lt;UL&gt;&lt;LI&gt;&lt;P&gt;&lt;SPAN&gt;Create Tiles (lastile)&lt;/SPAN&gt;&lt;/P&gt;&lt;/LI&gt;&lt;LI&gt;&lt;P&gt;&lt;SPAN&gt;Height Normalize the Point Cloud (lasheight)&lt;/SPAN&gt;&lt;/P&gt;&lt;/LI&gt;&lt;LI&gt;&lt;P&gt;&lt;SPAN&gt;Classify Buildings (lasclassify)&lt;/SPAN&gt;&lt;/P&gt;&lt;/LI&gt;&lt;LI&gt;&lt;P&gt;&lt;SPAN&gt;Clamp Buildings to 0 Ft. Normalized Height (las2las)&lt;/SPAN&gt;&lt;/P&gt;&lt;/LI&gt;&lt;LI&gt;&lt;P&gt;&lt;SPAN&gt;Thin the Point Cloud (lasthin)&lt;/SPAN&gt;&lt;/P&gt;&lt;/LI&gt;&lt;LI&gt;&lt;P&gt;&lt;SPAN&gt;Convert the Height Normalized Point Cloud to a DEM (las2dem) &lt;/SPAN&gt;&lt;/P&gt;&lt;/LI&gt;&lt;/UL&gt;&lt;P STYLE="margin:0 0 14 0;"&gt;&lt;SPAN STYLE="font-weight:bold;font-size:14pt"&gt;Uses and Limitations:&lt;/SPAN&gt;&lt;/P&gt;&lt;P STYLE="margin:0 0 14 0;"&gt;&lt;SPAN&gt;&lt;SPAN&gt;The canopy closure raster depicts areas of woody canopy greater than 15 feet tall for each 3x3 foot raster cell across Marin County. The layer is useful for myriad vegetation and forest-related analysis and is an important input to the automated processes used to develop the Marin County fine scale vegetation map. However, this data product was produced based on a rapid, fully automated point cloud classification and was not manually edited. As such, it includes some ‘false positives’ – pixels with a canopy height in the raster that aren’t vegetation. These false positives include noise from water aboveground non-vegetation returns from bridge decks, powerlines, and edges of buildings.&lt;/SPAN&gt;&lt;/SPAN&gt;&lt;/P&gt;&lt;/DIV&gt;&lt;/DIV&gt;&lt;/DIV&gt;</idAbs>
<idCredit>Golden Gate National Parks Conservancy, Tukman Geospatial LLC</idCredit>
<searchKeys>
<keyword>Marin County</keyword>
<keyword>Canopy Closure</keyword>
</searchKeys>
<resConst>
<Consts>
<useLimit/>
</Consts>
</resConst>
</dataIdInfo>
<mdLang>
<languageCode Sync="TRUE" value="eng"/>
<countryCode Sync="TRUE" value="USA"/>
</mdLang>
<mdChar>
<CharSetCd Sync="TRUE" value="004"/>
</mdChar>
<distInfo>
<distFormat>
<formatName Sync="TRUE">File Geodatabase Raster Dataset</formatName>
</distFormat>
</distInfo>
<mdHrLv>
<ScopeCd Sync="TRUE" value="005"/>
</mdHrLv>
<mdHrLvName Sync="TRUE">dataset</mdHrLvName>
<refSysInfo>
<RefSystem>
<refSysID>
<identCode Sync="TRUE" code="0"/>
</refSysID>
</RefSystem>
</refSysInfo>
<spatRepInfo>
<Georect>
<cellGeo>
<CellGeoCd Sync="TRUE" value="002"/>
</cellGeo>
<numDims Sync="TRUE">2</numDims>
<tranParaAv Sync="TRUE">1</tranParaAv>
<chkPtAv Sync="TRUE">0</chkPtAv>
<cornerPts>
<pos Sync="TRUE">5829600.000000 2121000.000000</pos>
</cornerPts>
<cornerPts>
<pos Sync="TRUE">5829600.000000 2316300.000000</pos>
</cornerPts>
<cornerPts>
<pos Sync="TRUE">6012300.000000 2316300.000000</pos>
</cornerPts>
<cornerPts>
<pos Sync="TRUE">6012300.000000 2121000.000000</pos>
</cornerPts>
<centerPt>
<pos Sync="TRUE">5920950.000000 2218650.000000</pos>
</centerPt>
<axisDimension type="002">
<dimSize Sync="TRUE">60900</dimSize>
<dimResol>
<value Sync="TRUE" uom="ftUS">3.000000</value>
</dimResol>
</axisDimension>
<axisDimension type="001">
<dimSize Sync="TRUE">65100</dimSize>
<dimResol>
<value Sync="TRUE" uom="ftUS">3.000000</value>
</dimResol>
</axisDimension>
<ptInPixel>
<PixOrientCd Sync="TRUE" value="001"/>
</ptInPixel>
</Georect>
</spatRepInfo>
<contInfo>
<ImgDesc>
<contentTyp>
<ContentTypCd Sync="TRUE" value="001"/>
</contentTyp>
<covDim>
<Band>
<dimDescrp Sync="TRUE">Band_1</dimDescrp>
<bitsPerVal Sync="TRUE">8</bitsPerVal>
<valUnit>
<UOM type="length"/>
</valUnit>
</Band>
</covDim>
</ImgDesc>
</contInfo>
<mdDateSt Sync="TRUE">20220421</mdDateSt>
<spdoinfo>
<rastinfo>
<rasttype Sync="TRUE">Pixel</rasttype>
<rowcount Sync="TRUE">65100</rowcount>
<colcount Sync="TRUE">60900</colcount>
<rastxsz Sync="TRUE">3.000000</rastxsz>
<rastysz Sync="TRUE">3.000000</rastysz>
<rastbpp Sync="TRUE">8</rastbpp>
<vrtcount Sync="TRUE">1</vrtcount>
<rastorig Sync="TRUE">Upper Left</rastorig>
<rastcmap Sync="TRUE">FALSE</rastcmap>
<rastcomp Sync="TRUE">LZ77</rastcomp>
<rastband Sync="TRUE">1</rastband>
<rastdtyp Sync="TRUE">pixel codes</rastdtyp>
<rastifor Sync="TRUE">FGDBR</rastifor>
<rastplyr Sync="TRUE">TRUE</rastplyr>
</rastinfo>
</spdoinfo>
<spref>
<horizsys>
<planar>
<planci>
<plance Sync="TRUE">row and column</plance>
<coordrep>
<absres Sync="TRUE">3.000000</absres>
<ordres Sync="TRUE">3.000000</ordres>
</coordrep>
</planci>
</planar>
</horizsys>
</spref>
<eainfo>
<detailed Name="VAT_MARIN_2019_CANCOV_3FT">
<enttyp>
<enttypl Sync="TRUE">VAT_MARIN_2019_CANCOV_3FT</enttypl>
<enttypt Sync="TRUE">Table</enttypt>
<enttypc Sync="TRUE">2</enttypc>
</enttyp>
<attr>
<attrlabl Sync="TRUE">OBJECTID</attrlabl>
<attalias Sync="TRUE">OBJECTID</attalias>
<attrtype Sync="TRUE">OID</attrtype>
<attwidth Sync="TRUE">4</attwidth>
<atprecis Sync="TRUE">0</atprecis>
<attscale Sync="TRUE">0</attscale>
<attrdef Sync="TRUE">Internal feature number.</attrdef>
<attrdefs Sync="TRUE">Esri</attrdefs>
<attrdomv>
<udom Sync="TRUE">Sequential unique whole numbers that are automatically generated.</udom>
</attrdomv>
</attr>
<attr>
<attrlabl Sync="TRUE">Value</attrlabl>
<attalias Sync="TRUE">Value</attalias>
<attrtype Sync="TRUE">Integer</attrtype>
<attwidth Sync="TRUE">4</attwidth>
<atprecis Sync="TRUE">0</atprecis>
<attscale Sync="TRUE">0</attscale>
</attr>
<attr>
<attrlabl Sync="TRUE">Count</attrlabl>
<attalias Sync="TRUE">Count</attalias>
<attrtype Sync="TRUE">Double</attrtype>
<attwidth Sync="TRUE">8</attwidth>
<atprecis Sync="TRUE">0</atprecis>
<attscale Sync="TRUE">0</attscale>
</attr>
<attr>
<attrlabl Sync="TRUE">Class</attrlabl>
<attalias Sync="TRUE">Class</attalias>
<attrtype Sync="TRUE">String</attrtype>
<attwidth Sync="TRUE">254</attwidth>
<atprecis Sync="TRUE">0</atprecis>
<attscale Sync="TRUE">0</attscale>
</attr>
</detailed>
</eainfo>
</metadata>
