Convert the Height Normalized Point Cloud to a DEM (las2dem) <\/span><\/p><\/li><\/ul>Uses and Limitations:<\/span><\/p>The canopy closure raster depicts areas of woody canopy greater than 15 feet tall for each 3x3 foot raster cell across Marin County. The layer is useful for myriad vegetation and forest-related analysis and is an important input to the automated processes used to develop the Marin County fine scale vegetation map. However, this data product was produced based on a rapid, fully automated point cloud classification and was not manually edited. As such, it includes some \u2018false positives\u2019 \u2013 pixels with a canopy height in the raster that aren\u2019t vegetation. These false positives include noise from water aboveground non-vegetation returns from bridge decks, powerlines, and edges of buildings.<\/span><\/span><\/p><\/div><\/div><\/div>",
"extent": {
"xmin": 5829600,
"ymin": 2121000,
"xmax": 6012300,
"ymax": 2316300,
"spatialReference": {"wkt": "PROJCS[\"NAD_1983_2011_StatePlane_California_III_FIPS_0403_Ft_US\",GEOGCS[\"GCS_North_American_1983\",DATUM[\"D_EGM2008_geoid\",SPHEROID[\"Unknown\",6378137.0,298.257222101]],PRIMEM[\"Greenwich\",0.0],UNIT[\"Degree\",0.0174532925199433]],PROJECTION[\"Lambert_Conformal_Conic\"],PARAMETER[\"false_easting\",6561666.666666668],PARAMETER[\"false_northing\",1640416.666666667],PARAMETER[\"central_meridian\",-120.5],PARAMETER[\"standard_parallel_1\",37.06666666666667],PARAMETER[\"standard_parallel_2\",38.43333333333333],PARAMETER[\"latitude_of_origin\",36.5],UNIT[\"Foot_US\",0.3048006096012192]]"}
},
"initialExtent": {
"xmin": 5829600,
"ymin": 2121000,
"xmax": 6012300,
"ymax": 2316300,
"spatialReference": {"wkt": "PROJCS[\"NAD_1983_2011_StatePlane_California_III_FIPS_0403_Ft_US\",GEOGCS[\"GCS_North_American_1983\",DATUM[\"D_EGM2008_geoid\",SPHEROID[\"Unknown\",6378137.0,298.257222101]],PRIMEM[\"Greenwich\",0.0],UNIT[\"Degree\",0.0174532925199433]],PROJECTION[\"Lambert_Conformal_Conic\"],PARAMETER[\"false_easting\",6561666.666666668],PARAMETER[\"false_northing\",1640416.666666667],PARAMETER[\"central_meridian\",-120.5],PARAMETER[\"standard_parallel_1\",37.06666666666667],PARAMETER[\"standard_parallel_2\",38.43333333333333],PARAMETER[\"latitude_of_origin\",36.5],UNIT[\"Foot_US\",0.3048006096012192]]"}
},
"fullExtent": {
"xmin": 5829600,
"ymin": 2121000,
"xmax": 6012300,
"ymax": 2316300,
"spatialReference": {"wkt": "PROJCS[\"NAD_1983_2011_StatePlane_California_III_FIPS_0403_Ft_US\",GEOGCS[\"GCS_North_American_1983\",DATUM[\"D_EGM2008_geoid\",SPHEROID[\"Unknown\",6378137.0,298.257222101]],PRIMEM[\"Greenwich\",0.0],UNIT[\"Degree\",0.0174532925199433]],PROJECTION[\"Lambert_Conformal_Conic\"],PARAMETER[\"false_easting\",6561666.666666668],PARAMETER[\"false_northing\",1640416.666666667],PARAMETER[\"central_meridian\",-120.5],PARAMETER[\"standard_parallel_1\",37.06666666666667],PARAMETER[\"standard_parallel_2\",38.43333333333333],PARAMETER[\"latitude_of_origin\",36.5],UNIT[\"Foot_US\",0.3048006096012192]]"}
},
"pixelSizeX": 3,
"pixelSizeY": 3,
"datasetFormat": "FGDBR",
"uncompressedSize": 3964590000,
"blockWidth": 128,
"blockHeight": 128,
"compressionType": "LZ77",
"bandNames": [
"Band_1"
],
"allowCopy": true,
"allowAnalysis": true,
"bandCount": 1,
"pixelType": "U8",
"minPixelSize": 0,
"maxPixelSize": 0,
"copyrightText": "Golden Gate National Parks Conservancy, Tukman Geospatial LLC",
"serviceDataType": "esriImageServiceDataTypeGeneric",
"serviceSourceType": "esriImageServiceSourceTypeDataset",
"minValues": [
1
],
"maxValues": [
2
],
"meanValues": [
1.2526884587160363
],
"stdvValues": [
0.43455379602337113
],
"objectIdField": "",
"fields": [],
"capabilities": "Mensuration,Image,Metadata",
"defaultMosaicMethod": "Center",
"allowedMosaicMethods": "",
"sortField": "",
"sortValue": null,
"sortAscending": true,
"mosaicOperator": "First",
"defaultCompressionQuality": 75,
"defaultResamplingMethod": "Nearest",
"maxImageHeight": 4100,
"maxImageWidth": 15000,
"allowRasterFunction": true,
"rasterFunctionInfos": [
{
"name": "None",
"description": "",
"help": ""
}
],
"rasterTypeInfos": [
{
"name": "Raster Dataset",
"description": "Supports all ArcGIS Raster Datasets",
"help": ""
}
],
"mensurationCapabilities": "Basic",
"hasHistograms": true,
"hasColormap": false,
"hasRasterAttributeTable": true,
"minScale": 0,
"maxScale": 0,
"exportTilesAllowed": false,
"hasMultidimensions": false,
"supportsStatistics": false,
"supportsAdvancedQueries": false,
"editFieldsInfo": null,
"ownershipBasedAccessControlForRasters": null,
"allowComputeTiePoints": false,
"useStandardizedQueries": true,
"advancedQueryCapabilities": {
"useStandardizedQueries": true,
"supportsStatistics": false,
"supportsOrderBy": false,
"supportsDistinct": false,
"supportsPagination": false
},
"spatialReference": {"wkt": "PROJCS[\"NAD_1983_2011_StatePlane_California_III_FIPS_0403_Ft_US\",GEOGCS[\"GCS_North_American_1983\",DATUM[\"D_EGM2008_geoid\",SPHEROID[\"Unknown\",6378137.0,298.257222101]],PRIMEM[\"Greenwich\",0.0],UNIT[\"Degree\",0.0174532925199433]],PROJECTION[\"Lambert_Conformal_Conic\"],PARAMETER[\"false_easting\",6561666.666666668],PARAMETER[\"false_northing\",1640416.666666667],PARAMETER[\"central_meridian\",-120.5],PARAMETER[\"standard_parallel_1\",37.06666666666667],PARAMETER[\"standard_parallel_2\",38.43333333333333],PARAMETER[\"latitude_of_origin\",36.5],UNIT[\"Foot_US\",0.3048006096012192]]"}
}