{
 "currentVersion": 10.81,
 "serviceDescription": "Orthos/2016Orthos",
 "name": "Orthos/2016Orthos",
 "description": "",
 "extent": {
  "xmin": 5822860.265794799,
  "ymin": 2123102.3289150656,
  "xmax": 6022090.182294799,
  "ymax": 2310970.0634150654,
  "spatialReference": {
   "wkid": 2872,
   "latestWkid": 2872
  }
 },
 "initialExtent": {
  "xmin": 5822860.265794799,
  "ymin": 2123102.3289150656,
  "xmax": 6022090.182294799,
  "ymax": 2310970.0634150654,
  "spatialReference": {
   "wkid": 2872,
   "latestWkid": 2872
  }
 },
 "fullExtent": {
  "xmin": 5822860.265794799,
  "ymin": 2123102.3289150656,
  "xmax": 6022090.182294799,
  "ymax": 2310970.0634150654,
  "spatialReference": {
   "wkid": 2872,
   "latestWkid": 2872
  }
 },
 "pixelSizeX": 1.9685000000000028,
 "pixelSizeY": 1.9684999999999977,
 "bandCount": 4,
 "pixelType": "U8",
 "minPixelSize": 1.736111111111111,
 "maxPixelSize": 260.41666666666663,
 "copyrightText": "",
 "serviceDataType": "esriImageServiceDataTypeGeneric",
 "minValues": [
  2,
  16,
  29,
  1
 ],
 "maxValues": [
  254,
  254,
  254,
  254
 ],
 "meanValues": [
  108.37359998922273,
  116.74179952181444,
  111.74159356576072,
  141.39608904955108
 ],
 "stdvValues": [
  50.18071680615655,
  37.424564917419076,
  30.797737444741152,
  60.55668754221745
 ],
 "objectIdField": "",
 "fields": [],
 "capabilities": "Mensuration,Image,Metadata",
 "defaultMosaicMethod": "Center",
 "allowedMosaicMethods": "",
 "sortField": "",
 "sortValue": null,
 "sortAscending": true,
 "mosaicOperator": "First",
 "defaultCompressionQuality": 75,
 "defaultResamplingMethod": "Bicubic",
 "maxImageHeight": 4100,
 "maxImageWidth": 15000,
 "singleFusedMapCache": true,
 "tileInfo": {
  "rows": 256,
  "cols": 256,
  "dpi": 96,
  "format": "MIXED",
  "compressionQuality": 75,
  "origin": {
   "x": -115860600,
   "y": 151575000
  },
  "spatialReference": {
   "wkid": 2872,
   "latestWkid": 2872
  },
  "lods": [
   {
    "level": 0,
    "resolution": 260.41666666666663,
    "scale": 300000
   },
   {
    "level": 1,
    "resolution": 173.61111111111111,
    "scale": 200000
   },
   {
    "level": 2,
    "resolution": 86.80555555555556,
    "scale": 100000
   },
   {
    "level": 3,
    "resolution": 65.10416666666666,
    "scale": 75000
   },
   {
    "level": 4,
    "resolution": 27.777777777777775,
    "scale": 32000
   },
   {
    "level": 5,
    "resolution": 20.833333333333332,
    "scale": 24000
   },
   {
    "level": 6,
    "resolution": 13.888888888888888,
    "scale": 16000
   },
   {
    "level": 7,
    "resolution": 10.416666666666666,
    "scale": 12000
   },
   {
    "level": 8,
    "resolution": 6.944444444444444,
    "scale": 8000
   },
   {
    "level": 9,
    "resolution": 3.472222222222222,
    "scale": 4000
   },
   {
    "level": 10,
    "resolution": 1.736111111111111,
    "scale": 2000
   }
  ]
 },
 "cacheType": "Map",
 "allowRasterFunction": true,
 "rasterFunctionInfos": [
  {
   "name": "None",
   "description": "",
   "help": ""
  }
 ],
 "rasterTypeInfos": [
  {
   "name": "Raster Dataset",
   "description": "Supports all ArcGIS Raster Datasets",
   "help": ""
  }
 ],
 "mensurationCapabilities": "Basic",
 "hasHistograms": true,
 "hasColormap": false,
 "hasRasterAttributeTable": false,
 "minScale": 300000,
 "maxScale": 2000,
 "exportTilesAllowed": false,
 "hasMultidimensions": false,
 "supportsStatistics": false,
 "supportsAdvancedQueries": false,
 "editFieldsInfo": null,
 "ownershipBasedAccessControlForRasters": null,
 "allowComputeTiePoints": false,
 "useStandardizedQueries": true,
 "advancedQueryCapabilities": {
  "useStandardizedQueries": true,
  "supportsStatistics": false,
  "supportsOrderBy": false,
  "supportsDistinct": false,
  "supportsPagination": false
 },
 "spatialReference": {
  "wkid": 2872,
  "latestWkid": 2872
 }
}