{
 "currentVersion": 10.81,
 "serviceDescription": "Regional/U84_marin52_tbsm50cm_20131218f",
 "name": "Regional/U84_marin52_tbsm50cm_20131218f",
 "description": "",
 "extent": {
  "xmin": 497499.8661954669,
  "ymin": 4170997.463200568,
  "xmax": 559600.8661954668,
  "ymax": 4248500.463200568,
  "spatialReference": {
   "wkid": 32610,
   "latestWkid": 32610
  }
 },
 "initialExtent": {
  "xmin": 497499.8661954669,
  "ymin": 4170997.463200568,
  "xmax": 559600.8661954668,
  "ymax": 4248500.463200568,
  "spatialReference": {
   "wkid": 32610,
   "latestWkid": 32610
  }
 },
 "fullExtent": {
  "xmin": 497499.8661954669,
  "ymin": 4170997.463200568,
  "xmax": 559600.8661954668,
  "ymax": 4248500.463200568,
  "spatialReference": {
   "wkid": 32610,
   "latestWkid": 32610
  }
 },
 "pixelSizeX": 0.49999999999999956,
 "pixelSizeY": 0.5,
 "bandCount": 1,
 "pixelType": "F32",
 "minPixelSize": 0,
 "maxPixelSize": 0,
 "copyrightText": "",
 "serviceDataType": "esriImageServiceDataTypeGeneric",
 "minValues": [
  -114.68958282471
 ],
 "maxValues": [
  817.99932861328
 ],
 "meanValues": [
  55.79539320664
 ],
 "stdvValues": [
  118.52376661786
 ],
 "objectIdField": "",
 "fields": [],
 "capabilities": "Mensuration,Image,Metadata",
 "defaultMosaicMethod": "Center",
 "allowedMosaicMethods": "",
 "sortField": "",
 "sortValue": null,
 "sortAscending": true,
 "mosaicOperator": "First",
 "defaultCompressionQuality": 75,
 "defaultResamplingMethod": "Bilinear",
 "maxImageHeight": 4100,
 "maxImageWidth": 15000,
 "singleFusedMapCache": true,
 "tileInfo": {
  "rows": 256,
  "cols": 256,
  "dpi": 96,
  "format": "MIXED",
  "compressionQuality": 75,
  "origin": {
   "x": -5120900,
   "y": 9998100
  },
  "spatialReference": {
   "wkid": 32610,
   "latestWkid": 32610
  },
  "lods": [
   {
    "level": 0,
    "resolution": 132.2919312505292,
    "scale": 500000
   },
   {
    "level": 1,
    "resolution": 79.37515875031751,
    "scale": 300000
   },
   {
    "level": 2,
    "resolution": 52.91677250021167,
    "scale": 200000
   },
   {
    "level": 3,
    "resolution": 26.458386250105836,
    "scale": 100000
   },
   {
    "level": 4,
    "resolution": 19.843789687579378,
    "scale": 75000
   },
   {
    "level": 5,
    "resolution": 8.466683600033868,
    "scale": 32000
   },
   {
    "level": 6,
    "resolution": 6.350012700025401,
    "scale": 24000
   },
   {
    "level": 7,
    "resolution": 4.233341800016934,
    "scale": 16000
   },
   {
    "level": 8,
    "resolution": 3.1750063500127004,
    "scale": 12000
   },
   {
    "level": 9,
    "resolution": 1.90500381000762,
    "scale": 7200
   },
   {
    "level": 10,
    "resolution": 1.27000254000508,
    "scale": 4800
   },
   {
    "level": 11,
    "resolution": 0.63500127000254,
    "scale": 2400
   },
   {
    "level": 12,
    "resolution": 0.31750063500127,
    "scale": 1200
   }
  ]
 },
 "cacheType": "Map",
 "allowRasterFunction": true,
 "rasterFunctionInfos": [
  {
   "name": "None",
   "description": "",
   "help": ""
  }
 ],
 "rasterTypeInfos": [
  {
   "name": "Raster Dataset",
   "description": "Supports all ArcGIS Raster Datasets",
   "help": ""
  }
 ],
 "mensurationCapabilities": "Basic",
 "hasHistograms": true,
 "hasColormap": false,
 "hasRasterAttributeTable": false,
 "minScale": 0,
 "maxScale": 0,
 "exportTilesAllowed": false,
 "hasMultidimensions": false,
 "supportsStatistics": false,
 "supportsAdvancedQueries": false,
 "editFieldsInfo": null,
 "ownershipBasedAccessControlForRasters": null,
 "allowComputeTiePoints": false,
 "useStandardizedQueries": true,
 "advancedQueryCapabilities": {
  "useStandardizedQueries": true,
  "supportsStatistics": false,
  "supportsOrderBy": false,
  "supportsDistinct": false,
  "supportsPagination": false
 },
 "spatialReference": {
  "wkid": 32610,
  "latestWkid": 32610
 }
}