View In:
ArcGIS JavaScript
ArcGIS Online Map Viewer
ArcGIS Earth
ArcMap
View Footprint In:
ArcGIS Online Map Viewer
Service Description: MarinFire/MarinFuelModel_2020
Name: MarinFire/MarinFuelModel_2020
Description:
Single Fused Map Cache: false
Extent:
XMin: 497906.60405510664
YMin: 4185410.7331622615
XMax: 551141.6040551066
YMax: 4241425.733162262
Spatial Reference: 26910
(26910)
Initial Extent:
XMin: 497906.60405510664
YMin: 4185410.7331622615
XMax: 551141.6040551066
YMax: 4241425.733162262
Spatial Reference: 26910
(26910)
Full Extent:
XMin: 497906.60405510664
YMin: 4185410.7331622615
XMax: 551141.6040551066
YMax: 4241425.733162262
Spatial Reference: 26910
(26910)
Pixel Size X: 5.0
Pixel Size Y: 5.0
Band Count: 1
Pixel Type: U8
RasterFunction Infos: {"rasterFunctionInfos": [{
"name": "None",
"description": "",
"help": ""
}]}
Mensuration Capabilities: Basic
Has Histograms: true
Has Colormap: false
Has Multi Dimensions : false
Rendering Rule:
Min Scale: 0
Max Scale: 0
Copyright Text:
Service Data Type: esriImageServiceDataTypeThematic
Min Values: 0
Max Values: 189
Mean Values: 136.03435490776363
Standard Deviation Values: 37.38889702316116
Object ID Field:
Fields:
None
Default Mosaic Method: Center
Allowed Mosaic Methods:
SortField:
SortValue: null
Mosaic Operator: First
Default Compression Quality: 75
Default Resampling Method: Nearest
Max Record Count: null
Max Image Height: 4100
Max Image Width: 15000
Max Download Image Count: null
Max Mosaic Image Count: null
Allow Raster Function: true
Allow Copy: true
Allow Analysis: true
Allow Compute TiePoints: false
Supports Statistics: false
Supports Advanced Queries: false
Use StandardizedQueries: true
Raster Type Infos:
Name: Raster Dataset
Description: Supports all ArcGIS Raster Datasets
Help:
Has Raster Attribute Table: true
Edit Fields Info: null
Ownership Based AccessControl For Rasters: null
Child Resources:
Info
Raster Attribute Table
Histograms
Statistics
Key Properties
Legend
Raster Function Infos
Supported Operations:
Export Image
Identify
Measure
Compute Histograms
Compute Statistics Histograms
Get Samples
Compute Class Statistics
Query Boundary
Compute Pixel Location
Validate
Project