View In:
ArcGIS JavaScript
ArcGIS Online Map Viewer
ArcGIS Earth
ArcMap
View Footprint In:
ArcGIS Online Map Viewer
Service Description: Orthos/2011Orthos
Name: Orthos/2011Orthos
Description:
Single Fused Map Cache: true
Tile Info:
- Height: 256
- Width: 256
- DPI: 96
-
Levels of Detail: 15
- Format: MIXED
- Compression Quality: 75.0
- LERC Error: NaN
- Origin: X: -1.158606E8
Y: 1.51575E8
- Spatial Reference: 2872
(2872)
Extent:
XMin: 5926436.511026414
YMin: 2120766.9129781453
XMax: 6019360.461257193
YMax: 2285058.01287615
Spatial Reference: 2872
(2872)
Initial Extent:
XMin: 5926436.511026414
YMin: 2120766.9129781453
XMax: 6019360.461257193
YMax: 2285058.01287615
Spatial Reference: 2872
(2872)
Full Extent:
XMin: 5926436.511026414
YMin: 2120766.9129781453
XMax: 6019360.461257193
YMax: 2285058.01287615
Spatial Reference: 2872
(2872)
Pixel Size X: 0.15000000037252903
Pixel Size Y: 0.1499999999068771
Band Count: 3
Pixel Type: U8
RasterFunction Infos: {"rasterFunctionInfos": [{
"name": "None",
"description": "",
"help": ""
}]}
Mensuration Capabilities: Basic
Has Histograms: false
Has Colormap: false
Has Multi Dimensions : false
Rendering Rule:
Min Scale: 300000
Max Scale: 250
Copyright Text:
Service Data Type: esriImageServiceDataTypeRGB
Min Values: N/A
Max Values: N/A
Mean Values: N/A
Standard Deviation Values: N/A
Object ID Field:
Fields:
None
Default Mosaic Method: Center
Allowed Mosaic Methods:
SortField:
SortValue: null
Mosaic Operator: First
Default Compression Quality: 75
Default Resampling Method: Bicubic
Max Record Count: null
Max Image Height: 4100
Max Image Width: 15000
Max Download Image Count: null
Max Mosaic Image Count: null
Allow Raster Function: true
Allow Copy: null
Allow Analysis: null
Allow Compute TiePoints: false
Supports Statistics: false
Supports Advanced Queries: false
Use StandardizedQueries: true
Raster Type Infos:
Name: Raster Dataset
Description: Supports all ArcGIS Raster Datasets
Help:
Has Raster Attribute Table: false
Edit Fields Info: null
Ownership Based AccessControl For Rasters: null
Child Resources:
Info
Key Properties
Legend
Raster Function Infos
Supported Operations:
Export Image
Identify
Measure
Compute Histograms
Compute Statistics Histograms
Get Samples
Compute Class Statistics
Query Boundary
Compute Pixel Location
Validate
Project