View In:
ArcGIS JavaScript
ArcGIS Online Map Viewer
ArcGIS Earth
ArcMap
View Footprint In:
ArcGIS Online Map Viewer
Service Description: Orthos/2016Orthos
Name: Orthos/2016Orthos
Description:
Single Fused Map Cache: true
Tile Info:
- Height: 256
- Width: 256
- DPI: 96
-
Levels of Detail: 11
- Format: MIXED
- Compression Quality: 75.0
- LERC Error: NaN
- Origin: X: -1.158606E8
Y: 1.51575E8
- Spatial Reference: 2872
(2872)
Extent:
XMin: 5822860.265794799
YMin: 2123102.3289150656
XMax: 6022090.182294799
YMax: 2310970.0634150654
Spatial Reference: 2872
(2872)
Initial Extent:
XMin: 5822860.265794799
YMin: 2123102.3289150656
XMax: 6022090.182294799
YMax: 2310970.0634150654
Spatial Reference: 2872
(2872)
Full Extent:
XMin: 5822860.265794799
YMin: 2123102.3289150656
XMax: 6022090.182294799
YMax: 2310970.0634150654
Spatial Reference: 2872
(2872)
Pixel Size X: 1.9685000000000028
Pixel Size Y: 1.9684999999999977
Band Count: 4
Pixel Type: U8
RasterFunction Infos: {"rasterFunctionInfos": [{
"name": "None",
"description": "",
"help": ""
}]}
Mensuration Capabilities: Basic
Has Histograms: true
Has Colormap: false
Has Multi Dimensions : false
Rendering Rule:
Min Scale: 300000
Max Scale: 2000
Copyright Text:
Service Data Type: esriImageServiceDataTypeGeneric
Min Values: 2, 16, 29, 1
Max Values: 254, 254, 254, 254
Mean Values: 108.37359998922273, 116.74179952181444, 111.74159356576072, 141.39608904955108
Standard Deviation Values: 50.18071680615655, 37.424564917419076, 30.797737444741152, 60.55668754221745
Object ID Field:
Fields:
None
Default Mosaic Method: Center
Allowed Mosaic Methods:
SortField:
SortValue: null
Mosaic Operator: First
Default Compression Quality: 75
Default Resampling Method: Bicubic
Max Record Count: null
Max Image Height: 4100
Max Image Width: 15000
Max Download Image Count: null
Max Mosaic Image Count: null
Allow Raster Function: true
Allow Copy: null
Allow Analysis: null
Allow Compute TiePoints: false
Supports Statistics: false
Supports Advanced Queries: false
Use StandardizedQueries: true
Raster Type Infos:
Name: Raster Dataset
Description: Supports all ArcGIS Raster Datasets
Help:
Has Raster Attribute Table: false
Edit Fields Info: null
Ownership Based AccessControl For Rasters: null
Child Resources:
Info
Histograms
Key Properties
Legend
Raster Function Infos
Supported Operations:
Export Image
Identify
Measure
Compute Histograms
Compute Statistics Histograms
Get Samples
Compute Class Statistics
Query Boundary
Compute Pixel Location
Validate
Project