View In:
ArcGIS JavaScript
ArcGIS Online Map Viewer
ArcGIS Earth
ArcMap
View Footprint In:
ArcGIS Online Map Viewer
Service Description: LIDAR/DEM_Harn
Name: LIDAR/DEM_Harn
Description:
Single Fused Map Cache: false
Extent:
XMin: 5830034.833792105
YMin: 2121884.4643134223
XMax: 6012284.833792113
YMax: 2315384.4643134475
Spatial Reference: 2872
(2872)
LatestVCSWkid(0)
Initial Extent:
XMin: 5830034.833792105
YMin: 2121884.4643134223
XMax: 6012284.833792113
YMax: 2315384.4643134475
Spatial Reference: 2872
(2872)
LatestVCSWkid(0)
Full Extent:
XMin: 5830034.833792105
YMin: 2121884.4643134223
XMax: 6012284.833792113
YMax: 2315384.4643134475
Spatial Reference: 2872
(2872)
LatestVCSWkid(0)
Pixel Size X: 1.5000000000000613
Pixel Size Y: 1.500000000000195
Band Count: 1
Pixel Type: F32
RasterFunction Infos: {"rasterFunctionInfos": [{
"name": "None",
"description": "",
"help": ""
}]}
Mensuration Capabilities: Basic
Has Histograms: true
Has Colormap: false
Has Multi Dimensions : false
Rendering Rule:
Min Scale: 0
Max Scale: 0
Copyright Text:
Service Data Type: esriImageServiceDataTypeGeneric
Min Values: -341.3447570800781
Max Values: 2576.851318359375
Mean Values: 360.9651655114143
Standard Deviation Values: 371.009905811031
Object ID Field:
Fields:
None
Default Mosaic Method: Center
Allowed Mosaic Methods:
SortField:
SortValue: null
Mosaic Operator: First
Default Compression Quality: 75
Default Resampling Method: Nearest
Max Record Count: null
Max Image Height: 4100
Max Image Width: 15000
Max Download Image Count: null
Max Mosaic Image Count: null
Allow Raster Function: true
Allow Copy: true
Allow Analysis: true
Allow Compute TiePoints: false
Supports Statistics: false
Supports Advanced Queries: false
Use StandardizedQueries: true
Raster Type Infos:
Name: Raster Dataset
Description: Supports all ArcGIS Raster Datasets
Help:
Has Raster Attribute Table: false
Edit Fields Info: null
Ownership Based AccessControl For Rasters: null
Child Resources:
Info
Histograms
Statistics
Key Properties
Legend
Raster Function Infos
Supported Operations:
Export Image
Identify
Measure
Compute Histograms
Compute Statistics Histograms
Get Samples
Compute Class Statistics
Query Boundary
Compute Pixel Location
Compute Angles
Validate
Project