View In:
ArcGIS JavaScript
ArcGIS Online Map Viewer
ArcGIS Earth
ArcMap
View Footprint In:
ArcGIS Online Map Viewer
Service Description: Orthos/1952Orthos
Name: Orthos/1952Orthos
Description:
Single Fused Map Cache: true
Tile Info:
- Height: 256
- Width: 256
- DPI: 96
-
Levels of Detail: 13
- Format: MIXED
- Compression Quality: 75.0
- LERC Error: NaN
- Origin: X: -1.158606E8
Y: 1.51575E8
- Spatial Reference: 2872
(2872)
LatestVCSWkid(0)
Extent:
XMin: 5914289.934000282
YMin: 2156513.053979901
XMax: 5997220.734013153
YMax: 2283893.053999673
Spatial Reference: 2872
(2872)
LatestVCSWkid(0)
Initial Extent:
XMin: 5914289.934000282
YMin: 2156513.053979901
XMax: 5997220.734013153
YMax: 2283893.053999673
Spatial Reference: 2872
(2872)
LatestVCSWkid(0)
Full Extent:
XMin: 5914289.934000282
YMin: 2156513.053979901
XMax: 5997220.734013153
YMax: 2283893.053999673
Spatial Reference: 2872
(2872)
LatestVCSWkid(0)
Pixel Size X: 1.200000000186251
Pixel Size Y: 1.2000000001862645
Band Count: 3
Pixel Type: U8
RasterFunction Infos: {"rasterFunctionInfos": [{
"name": "None",
"description": "",
"help": ""
}]}
Mensuration Capabilities: Basic
Has Histograms: true
Has Colormap: false
Has Multi Dimensions : false
Rendering Rule:
Min Scale: 300000
Max Scale: 720
Copyright Text:
Service Data Type: esriImageServiceDataTypeRGB
Min Values: 0, 0, 0
Max Values: 255, 255, 255
Mean Values: 140.12532629824798, 142.82963705281222, 136.04169511655178
Standard Deviation Values: 61.41676600240871, 60.09761902295673, 62.57720667542933
Object ID Field:
Fields:
None
Default Mosaic Method: Center
Allowed Mosaic Methods:
SortField:
SortValue: null
Mosaic Operator: First
Default Compression Quality: 75
Default Resampling Method: Bicubic
Max Record Count: null
Max Image Height: 4100
Max Image Width: 15000
Max Download Image Count: null
Max Mosaic Image Count: null
Allow Raster Function: true
Allow Copy: null
Allow Analysis: null
Allow Compute TiePoints: false
Supports Statistics: false
Supports Advanced Queries: false
Use StandardizedQueries: true
Raster Type Infos:
Name: Raster Dataset
Description: Supports all ArcGIS Raster Datasets
Help:
Has Raster Attribute Table: false
Edit Fields Info: null
Ownership Based AccessControl For Rasters: null
Child Resources:
Info
Histograms
Key Properties
Legend
Raster Function Infos
Supported Operations:
Export Image
Identify
Measure
Compute Histograms
Compute Statistics Histograms
Get Samples
Compute Class Statistics
Query Boundary
Compute Pixel Location
Compute Angles
Validate
Project