View In:
ArcGIS JavaScript
ArcGIS Online Map Viewer
ArcGIS Earth
ArcMap
View Footprint In:
ArcGIS Online Map Viewer
Service Description: Regional/Fairfax_slope2
Name: Regional/Fairfax_slope2
Description:
Single Fused Map Cache: false
Extent:
XMin: 5950664.83379211
YMin: 2183562.964313425
XMax: 5962447.333792111
YMax: 2196924.964313426
Spatial Reference: 2872
(2872)
Initial Extent:
XMin: 5950664.83379211
YMin: 2183562.964313425
XMax: 5962447.333792111
YMax: 2196924.964313426
Spatial Reference: 2872
(2872)
Full Extent:
XMin: 5950664.83379211
YMin: 2183562.964313425
XMax: 5962447.333792111
YMax: 2196924.964313426
Spatial Reference: 2872
(2872)
Pixel Size X: 1.5000000000001186
Pixel Size Y: 1.5000000000001046
Band Count: 1
Pixel Type: U16
RasterFunction Infos: {"rasterFunctionInfos": [{
"name": "None",
"description": "",
"help": ""
}]}
Mensuration Capabilities: Basic
Has Histograms: true
Has Colormap: false
Has Multi Dimensions : false
Rendering Rule:
Min Scale: 0
Max Scale: 0
Copyright Text:
Service Data Type: esriImageServiceDataTypeGeneric
Min Values: 5
Max Values: 1126
Mean Values: 446.8107179351155
Standard Deviation Values: 529.1525184469899
Object ID Field:
Fields:
None
Default Mosaic Method: Center
Allowed Mosaic Methods:
SortField:
SortValue: null
Mosaic Operator: First
Default Compression Quality: 75
Default Resampling Method: Bilinear
Max Record Count: null
Max Image Height: 4100
Max Image Width: 15000
Max Download Image Count: null
Max Mosaic Image Count: null
Allow Raster Function: true
Allow Copy: null
Allow Analysis: null
Allow Compute TiePoints: false
Supports Statistics: false
Supports Advanced Queries: false
Use StandardizedQueries: true
Raster Type Infos:
Name: Raster Dataset
Description: Supports all ArcGIS Raster Datasets
Help:
Has Raster Attribute Table: true
Edit Fields Info: null
Ownership Based AccessControl For Rasters: null
Child Resources:
Info
Raster Attribute Table
Histograms
Key Properties
Legend
Raster Function Infos
Supported Operations:
Export Image
Identify
Measure
Compute Histograms
Compute Statistics Histograms
Get Samples
Compute Class Statistics
Query Boundary
Compute Pixel Location
Validate
Project