View In:
ArcGIS JavaScript
ArcGIS Online Map Viewer
ArcGIS Earth
ArcMap
View Footprint In:
ArcGIS Online Map Viewer
Service Description: LIDAR/DSM_Harn
Name: LIDAR/DSM_Harn
Description:
Single Fused Map Cache: false
Extent:
XMin: 5830034.999999997
YMin: 2121884.0000000005
XMax: 6012285.000000001
YMax: 2315383.9999999977
Spatial Reference: 2872
(2872)
LatestVCSWkid(0)
Initial Extent:
XMin: 5830034.999999997
YMin: 2121884.0000000005
XMax: 6012285.000000001
YMax: 2315383.9999999977
Spatial Reference: 2872
(2872)
LatestVCSWkid(0)
Full Extent:
XMin: 5830034.999999997
YMin: 2121884.0000000005
XMax: 6012285.000000001
YMax: 2315383.9999999977
Spatial Reference: 2872
(2872)
LatestVCSWkid(0)
Pixel Size X: 1.5000000000000306
Pixel Size Y: 1.4999999999999782
Band Count: 1
Pixel Type: F32
RasterFunction Infos: {"rasterFunctionInfos": [{
"name": "None",
"description": "",
"help": ""
}]}
Mensuration Capabilities: Basic
Has Histograms: true
Has Colormap: false
Has Multi Dimensions : false
Rendering Rule:
Min Scale: 0
Max Scale: 0
Copyright Text:
Service Data Type: esriImageServiceDataTypeGeneric
Min Values: -341.66021728515625
Max Values: 2645.314208984375
Mean Values: 374.96044891118635
Standard Deviation Values: 381.1764759893398
Object ID Field:
Fields:
None
Default Mosaic Method: Center
Allowed Mosaic Methods:
SortField:
SortValue: null
Mosaic Operator: First
Default Compression Quality: 75
Default Resampling Method: Bicubic
Max Record Count: null
Max Image Height: 4100
Max Image Width: 15000
Max Download Image Count: null
Max Mosaic Image Count: null
Allow Raster Function: true
Allow Copy: true
Allow Analysis: true
Allow Compute TiePoints: false
Supports Statistics: false
Supports Advanced Queries: false
Use StandardizedQueries: true
Raster Type Infos:
Name: Raster Dataset
Description: Supports all ArcGIS Raster Datasets
Help:
Has Raster Attribute Table: false
Edit Fields Info: null
Ownership Based AccessControl For Rasters: null
Child Resources:
Info
Histograms
Statistics
Key Properties
Legend
Raster Function Infos
Supported Operations:
Export Image
Identify
Measure
Compute Histograms
Compute Statistics Histograms
Get Samples
Compute Class Statistics
Query Boundary
Compute Pixel Location
Compute Angles
Validate
Project