View In:
ArcGIS JavaScript
ArcGIS Online Map Viewer
ArcGIS Earth
ArcMap
View Footprint In:
ArcGIS Online Map Viewer
Service Description: Methods:
This canopy closure raster was derived directly from the LiDAR derived canopy height model. That 3-foot resolution raster was produced from the winter, 2019 Quality Level 1 LiDAR point cloud (already ground classified) using Lastools in a multistep process. The processing steps were as follows:
Create Tiles (lastile)
Height Normalize the Point Cloud (lasheight)
Classify Buildings (lasclassify)
Clamp Buildings to 0 Ft. Normalized Height (las2las)
Thin the Point Cloud (lasthin)
Convert the Height Normalized Point Cloud to a DEM (las2dem)
Uses and Limitations:
The canopy closure raster depicts areas of woody canopy greater than 15 feet tall for each 3x3 foot raster cell across Marin County. The layer is useful for myriad vegetation and forest-related analysis and is an important input to the automated processes used to develop the Marin County fine scale vegetation map. However, this data product was produced based on a rapid, fully automated point cloud classification and was not manually edited. As such, it includes some ‘false positives’ – pixels with a canopy height in the raster that aren’t vegetation. These false positives include noise from water aboveground non-vegetation returns from bridge decks, powerlines, and edges of buildings.
Name: LIDAR/MARIN_2019_CANCOV_3FT
Description: Methods:
This canopy closure raster was derived directly from the LiDAR derived canopy height model. That 3-foot resolution raster was produced from the winter, 2019 Quality Level 1 LiDAR point cloud (already ground classified) using Lastools in a multistep process. The processing steps were as follows:
Create Tiles (lastile)
Height Normalize the Point Cloud (lasheight)
Classify Buildings (lasclassify)
Clamp Buildings to 0 Ft. Normalized Height (las2las)
Thin the Point Cloud (lasthin)
Convert the Height Normalized Point Cloud to a DEM (las2dem)
Uses and Limitations:
The canopy closure raster depicts areas of woody canopy greater than 15 feet tall for each 3x3 foot raster cell across Marin County. The layer is useful for myriad vegetation and forest-related analysis and is an important input to the automated processes used to develop the Marin County fine scale vegetation map. However, this data product was produced based on a rapid, fully automated point cloud classification and was not manually edited. As such, it includes some ‘false positives’ – pixels with a canopy height in the raster that aren’t vegetation. These false positives include noise from water aboveground non-vegetation returns from bridge decks, powerlines, and edges of buildings.
Single Fused Map Cache: false
Extent:
XMin: 5829600
YMin: 2121000
XMax: 6012300
YMax: 2316300
Spatial Reference: PROJCS["NAD_1983_2011_StatePlane_California_III_FIPS_0403_Ft_US",GEOGCS["GCS_North_American_1983",DATUM["D_EGM2008_geoid",SPHEROID["Unknown",6378137.0,298.257222101]],PRIMEM["Greenwich",0.0],UNIT["Degree",0.0174532925199433]],PROJECTION["Lambert_Conformal_Conic"],PARAMETER["false_easting",6561666.666666668],PARAMETER["false_northing",1640416.666666667],PARAMETER["central_meridian",-120.5],PARAMETER["standard_parallel_1",37.06666666666667],PARAMETER["standard_parallel_2",38.43333333333333],PARAMETER["latitude_of_origin",36.5],UNIT["Foot_US",0.3048006096012192]]
Initial Extent:
XMin: 5829600
YMin: 2121000
XMax: 6012300
YMax: 2316300
Spatial Reference: PROJCS["NAD_1983_2011_StatePlane_California_III_FIPS_0403_Ft_US",GEOGCS["GCS_North_American_1983",DATUM["D_EGM2008_geoid",SPHEROID["Unknown",6378137.0,298.257222101]],PRIMEM["Greenwich",0.0],UNIT["Degree",0.0174532925199433]],PROJECTION["Lambert_Conformal_Conic"],PARAMETER["false_easting",6561666.666666668],PARAMETER["false_northing",1640416.666666667],PARAMETER["central_meridian",-120.5],PARAMETER["standard_parallel_1",37.06666666666667],PARAMETER["standard_parallel_2",38.43333333333333],PARAMETER["latitude_of_origin",36.5],UNIT["Foot_US",0.3048006096012192]]
Full Extent:
XMin: 5829600
YMin: 2121000
XMax: 6012300
YMax: 2316300
Spatial Reference: PROJCS["NAD_1983_2011_StatePlane_California_III_FIPS_0403_Ft_US",GEOGCS["GCS_North_American_1983",DATUM["D_EGM2008_geoid",SPHEROID["Unknown",6378137.0,298.257222101]],PRIMEM["Greenwich",0.0],UNIT["Degree",0.0174532925199433]],PROJECTION["Lambert_Conformal_Conic"],PARAMETER["false_easting",6561666.666666668],PARAMETER["false_northing",1640416.666666667],PARAMETER["central_meridian",-120.5],PARAMETER["standard_parallel_1",37.06666666666667],PARAMETER["standard_parallel_2",38.43333333333333],PARAMETER["latitude_of_origin",36.5],UNIT["Foot_US",0.3048006096012192]]
Pixel Size X: 3.0
Pixel Size Y: 3.0
Band Count: 1
Pixel Type: U8
RasterFunction Infos: {"rasterFunctionInfos": [{
"name": "None",
"description": "",
"help": ""
}]}
Mensuration Capabilities: Basic
Has Histograms: true
Has Colormap: false
Has Multi Dimensions : false
Rendering Rule:
Min Scale: 0
Max Scale: 0
Copyright Text: Golden Gate National Parks Conservancy, Tukman Geospatial LLC
Service Data Type: esriImageServiceDataTypeGeneric
Min Values: 1
Max Values: 2
Mean Values: 1.2526884587160363
Standard Deviation Values: 0.43455379602337113
Object ID Field:
Fields:
None
Default Mosaic Method: Center
Allowed Mosaic Methods:
SortField:
SortValue: null
Mosaic Operator: First
Default Compression Quality: 75
Default Resampling Method: Nearest
Max Record Count: null
Max Image Height: 4100
Max Image Width: 15000
Max Download Image Count: null
Max Mosaic Image Count: null
Allow Raster Function: true
Allow Copy: true
Allow Analysis: true
Allow Compute TiePoints: false
Supports Statistics: false
Supports Advanced Queries: false
Use StandardizedQueries: true
Raster Type Infos:
Name: Raster Dataset
Description: Supports all ArcGIS Raster Datasets
Help:
Has Raster Attribute Table: true
Edit Fields Info: null
Ownership Based AccessControl For Rasters: null
Child Resources:
Info
Raster Attribute Table
Histograms
Statistics
Key Properties
Legend
Raster Function Infos
Supported Operations:
Export Image
Identify
Measure
Compute Histograms
Compute Statistics Histograms
Get Samples
Compute Class Statistics
Query Boundary
Compute Pixel Location
Validate
Project