View In:
ArcGIS JavaScript
ArcGIS Online Map Viewer
ArcGIS Earth
ArcMap
View Footprint In:
ArcGIS Online Map Viewer
Service Description: This dataset represents a county wide, true-color and near infrared orthophoto (4-band) mosaic of the Marin County Imagery study area located in Marin County, San Mateo County and San Francisco County, CA. The imagery has been mosaicked to MrSID Generation 4 format using a 20 to 1 compression ratio. The data is projected in California State Plane Zone 3, the horizontal datum is NAD83(2011) and units are in US survey feet. The acquisition flight parameters were designed to yield a native pixel resolution of less than or equal to 0.5 ft. The Orthoimagery data was collected between 6/13/2018 and 6/23/2018 for the Golden Gate National Parks Conservancy.
Name: Orthos/2018Orthos
Description: This dataset represents a county wide, true-color and near infrared orthophoto (4-band) mosaic of the Marin County Imagery study area located in Marin County, San Mateo County and San Francisco County, CA. The imagery has been mosaicked to MrSID Generation 4 format using a 20 to 1 compression ratio. The data is projected in California State Plane Zone 3, the horizontal datum is NAD83(2011) and units are in US survey feet. The acquisition flight parameters were designed to yield a native pixel resolution of less than or equal to 0.5 ft. The Orthoimagery data was collected between 6/13/2018 and 6/23/2018 for the Golden Gate National Parks Conservancy.
Single Fused Map Cache: true
Tile Info:
- Height: 256
- Width: 256
- DPI: 96
-
Levels of Detail: 15
- Format: MIXED
- Compression Quality: 75.0
- LERC Error: NaN
- Origin: X: -1.158606E8
Y: 1.51575E8
- Spatial Reference: 2872
(2872)
LatestVCSWkid(0)
Extent:
XMin: 5833283.833786339
YMin: 2124810.964322433
XMax: 6012000.333786339
YMax: 2313203.464322433
Spatial Reference: 2872
(2872)
LatestVCSWkid(0)
Initial Extent:
XMin: 5833283.833786339
YMin: 2124810.964322433
XMax: 6012000.333786339
YMax: 2313203.464322433
Spatial Reference: 2872
(2872)
LatestVCSWkid(0)
Full Extent:
XMin: 5833283.833786339
YMin: 2124810.964322433
XMax: 6012000.333786339
YMax: 2313203.464322433
Spatial Reference: 2872
(2872)
LatestVCSWkid(0)
Pixel Size X: 0.5
Pixel Size Y: 0.5
Band Count: 4
Pixel Type: U16
RasterFunction Infos: {"rasterFunctionInfos": [{
"name": "None",
"description": "",
"help": ""
}]}
Mensuration Capabilities: Basic
Has Histograms: true
Has Colormap: false
Has Multi Dimensions : false
Rendering Rule:
Min Scale: 300000
Max Scale: 250
Copyright Text: MarinMap, County of Marin, Golden Gate National Parks Conservancy.
Service Data Type: esriImageServiceDataTypeGeneric
Min Values: 1, 1, 1, 1
Max Values: 65535, 65535, 65535, 65535
Mean Values: 28094.97689292301, 27480.12809985685, 26438.733289661555, 31453.824538097237
Standard Deviation Values: 10313.625850154454, 9395.075077823654, 8917.931131825826, 12708.2879957831
Object ID Field:
Fields:
None
Default Mosaic Method: Center
Allowed Mosaic Methods:
SortField:
SortValue: null
Mosaic Operator: First
Default Compression Quality: 75
Default Resampling Method: Bicubic
Max Record Count: null
Max Image Height: 4100
Max Image Width: 15000
Max Download Image Count: null
Max Mosaic Image Count: null
Allow Raster Function: true
Allow Copy: null
Allow Analysis: null
Allow Compute TiePoints: false
Supports Statistics: false
Supports Advanced Queries: false
Use StandardizedQueries: true
Raster Type Infos:
Name: Raster Dataset
Description: Supports all ArcGIS Raster Datasets
Help:
Has Raster Attribute Table: false
Edit Fields Info: null
Ownership Based AccessControl For Rasters: null
Child Resources:
Info
Histograms
Key Properties
Legend
Raster Function Infos
Supported Operations:
Export Image
Identify
Measure
Compute Histograms
Compute Statistics Histograms
Get Samples
Compute Class Statistics
Query Boundary
Compute Pixel Location
Compute Angles
Validate
Project