View In:
ArcGIS JavaScript
ArcGIS Online Map Viewer
ArcGIS Earth
ArcMap
View Footprint In:
ArcGIS Online Map Viewer
Service Description: Regional/U84_marin52_tbsm50cm_20131218f
Name: Regional/U84_marin52_tbsm50cm_20131218f
Description:
Single Fused Map Cache: true
Tile Info:
- Height: 256
- Width: 256
- DPI: 96
-
Levels of Detail: 13
- Format: MIXED
- Compression Quality: 75.0
- LERC Error: NaN
- Origin: X: -5120900.0
Y: 9998100.0
- Spatial Reference: 32610
(32610)
LatestVCSWkid(0)
Extent:
XMin: 497499.8661954669
YMin: 4170997.463200568
XMax: 559600.8661954668
YMax: 4248500.463200568
Spatial Reference: 32610
(32610)
LatestVCSWkid(0)
Initial Extent:
XMin: 497499.8661954669
YMin: 4170997.463200568
XMax: 559600.8661954668
YMax: 4248500.463200568
Spatial Reference: 32610
(32610)
LatestVCSWkid(0)
Full Extent:
XMin: 497499.8661954669
YMin: 4170997.463200568
XMax: 559600.8661954668
YMax: 4248500.463200568
Spatial Reference: 32610
(32610)
LatestVCSWkid(0)
Pixel Size X: 0.49999999999999956
Pixel Size Y: 0.5
Band Count: 1
Pixel Type: F32
RasterFunction Infos: {"rasterFunctionInfos": [{
"name": "None",
"description": "",
"help": ""
}]}
Mensuration Capabilities: Basic
Has Histograms: true
Has Colormap: false
Has Multi Dimensions : false
Rendering Rule:
Min Scale: 0
Max Scale: 0
Copyright Text:
Service Data Type: esriImageServiceDataTypeGeneric
Min Values: -114.68958282471
Max Values: 817.99932861328
Mean Values: 55.79539320664
Standard Deviation Values: 118.52376661786
Object ID Field:
Fields:
None
Default Mosaic Method: Center
Allowed Mosaic Methods:
SortField:
SortValue: null
Mosaic Operator: First
Default Compression Quality: 75
Default Resampling Method: Bilinear
Max Record Count: null
Max Image Height: 4100
Max Image Width: 15000
Max Download Image Count: null
Max Mosaic Image Count: null
Allow Raster Function: true
Allow Copy: null
Allow Analysis: null
Allow Compute TiePoints: false
Supports Statistics: false
Supports Advanced Queries: false
Use StandardizedQueries: true
Raster Type Infos:
Name: Raster Dataset
Description: Supports all ArcGIS Raster Datasets
Help:
Has Raster Attribute Table: false
Edit Fields Info: null
Ownership Based AccessControl For Rasters: null
Child Resources:
Info
Histograms
Key Properties
Legend
Raster Function Infos
Supported Operations:
Export Image
Identify
Measure
Compute Histograms
Compute Statistics Histograms
Get Samples
Compute Class Statistics
Query Boundary
Compute Pixel Location
Compute Angles
Validate
Project